BEGIN:VCALENDAR
VERSION:2.0
PRODID:-//Octubre Centre de Cultura Contemporània - ECPv5.1.6//NONSGML v1.0//EN
CALSCALE:GREGORIAN
METHOD:PUBLISH
X-WR-CALNAME:Octubre Centre de Cultura Contemporània
X-ORIGINAL-URL:https://octubre.cat
X-WR-CALDESC:Events for Octubre Centre de Cultura Contemporània
BEGIN:VTIMEZONE
TZID:Europe/Andorra
BEGIN:DAYLIGHT
TZOFFSETFROM:+0100
TZOFFSETTO:+0200
TZNAME:CEST
DTSTART:20220327T010000
END:DAYLIGHT
BEGIN:STANDARD
TZOFFSETFROM:+0200
TZOFFSETTO:+0100
TZNAME:CET
DTSTART:20221030T010000
END:STANDARD
END:VTIMEZONE
BEGIN:VEVENT
DTSTART;TZID=Europe/Andorra:20221202T190000
DTEND;TZID=Europe/Andorra:20221202T190000
DTSTAMP:20260420T183806
CREATED:20221028T152807Z
LAST-MODIFIED:20250629T094914Z
UID:18952-1670007600-1670007600@octubre.cat
SUMMARY:Presentació del llibre Actes impurs / Amado mio\, de Pier Paolo Pasolini
DESCRIPTION:A càrrec de Joan Navarro\, traductor \nActes impurs i Amado mio són dues novel·les breus\, vibrants i poètiques\, dos textos marcats per una desesperada vitalitat sobre el desig\, la culpa i el pecat en un entorn edènic marcat per l’amenaça latent dels focs de la Segona Guerra Mundial. En aquestes pàgines\, que contenen multitud de connexions amb les obres pasolinianes posteriors\, serem testimonis de primera mà dels inicis creadors\, de la profunda humanitat descarnada i del gran turment existencial d’un dels majors artistes del segle xx. \n  \n \n(Lleonard Muntaner Editor)
URL:https://octubre.cat/activitat/presentacio-del-llibre-actes-impurs-amado-mio-de-pier-paolo-pasolini/
LOCATION:Llibreria Fan Set
CATEGORIES:Literatura
ATTACH;FMTTYPE=image/jpeg:https://octubre.cat/www/wp-content/uploads/2022/10/pasolini.jpeg
END:VEVENT
END:VCALENDAR