BEGIN:VCALENDAR
VERSION:2.0
PRODID:-//Octubre Centre de Cultura Contemporània - ECPv5.1.6//NONSGML v1.0//EN
CALSCALE:GREGORIAN
METHOD:PUBLISH
X-WR-CALNAME:Octubre Centre de Cultura Contemporània
X-ORIGINAL-URL:https://octubre.cat
X-WR-CALDESC:Events for Octubre Centre de Cultura Contemporània
BEGIN:VTIMEZONE
TZID:Europe/Andorra
BEGIN:DAYLIGHT
TZOFFSETFROM:+0100
TZOFFSETTO:+0200
TZNAME:CEST
DTSTART:20170326T010000
END:DAYLIGHT
BEGIN:STANDARD
TZOFFSETFROM:+0200
TZOFFSETTO:+0100
TZNAME:CET
DTSTART:20171029T010000
END:STANDARD
END:VTIMEZONE
BEGIN:VEVENT
DTSTART;TZID=Europe/Andorra:20170207T190000
DTEND;TZID=Europe/Andorra:20170207T190000
DTSTAMP:20260421T012753
CREATED:20200729T172316Z
LAST-MODIFIED:20200729T185715Z
UID:10959-1486494000-1486494000@octubre.cat
SUMMARY:Presentació del llibre 'A l'ombra del temps'\, de Sebastià Carratalà
DESCRIPTION:Dimarts 7 de febrer a les 19.00h i a la llibreria Fan Set. Amb Moisés Vizcaino\, de La Veu del País Valencià\, i Josep Martínez\, editor.  \n  \n  \n\n (Pruna Llibres).  Amb Moisés Vizcaino\, de La Veu del País Valencià\, i Josep Martínez\, editor.
URL:https://octubre.cat/activitat/presentacio-del-llibre-a-lombra-del-temps-de-sebastia-carratala/
LOCATION:Llibreria Fan Set
CATEGORIES:Literatura
ATTACH;FMTTYPE=image/png:https://octubre.cat/www/wp-content/uploads/2020/07/activitat2740.png
END:VEVENT
END:VCALENDAR