BEGIN:VCALENDAR
VERSION:2.0
PRODID:-//Octubre Centre de Cultura Contemporània - ECPv5.1.6//NONSGML v1.0//EN
CALSCALE:GREGORIAN
METHOD:PUBLISH
X-WR-CALNAME:Octubre Centre de Cultura Contemporània
X-ORIGINAL-URL:https://octubre.cat
X-WR-CALDESC:Events for Octubre Centre de Cultura Contemporània
BEGIN:VTIMEZONE
TZID:Europe/Andorra
BEGIN:DAYLIGHT
TZOFFSETFROM:+0100
TZOFFSETTO:+0200
TZNAME:CEST
DTSTART:20120325T010000
END:DAYLIGHT
BEGIN:STANDARD
TZOFFSETFROM:+0200
TZOFFSETTO:+0100
TZNAME:CET
DTSTART:20121028T010000
END:STANDARD
END:VTIMEZONE
BEGIN:VEVENT
DTSTART;TZID=Europe/Andorra:20120614T190000
DTEND;TZID=Europe/Andorra:20120614T190000
DTSTAMP:20260422T110248
CREATED:20200729T165757Z
LAST-MODIFIED:20200729T183857Z
UID:9382-1339700400-1339700400@octubre.cat
SUMMARY:Presentació del llibre 'A la recerca del benestar'\, d'Ignasi Llorente
DESCRIPTION:Dijous 14 de juny a les 19.00h: Presentació del llibre ‘A la recerca del benestar’\, d’Ignasi Llorente  \n  \n  \n\nA la recerca del benestar\, d’Ignasi Llorente (Angle Editorial). Pròleg de Josep Ramoneda  L’obra A la recerca del benestar és una reflexió sobre la independència en el context en què ens trobem actualment\, un món global i de constant transformació. Segons l’autor\, és necessari abordar aquest àmbit des d’un punt de vista racional\, i allunyar-se de la independència purament emocional i de caire nacionalista.  L’autor  Ignasi Llorente\, portaveu d’ERC entre els anys 2008 i 2011\, parteix de la base que tots els estats i les administracions han d’estar al servei de la societat per garantir-ne el seu benestar. En el nostre cas\, la independència s’hauria de plantejar amb criteris d’eficàcia i utilitat. En definitiva\, cal més Estat i menys nació; més sentit com  i menys emoció. Segons Llorente\, els estats són útils quan són capaços d’aportar llibertat i benestar als ciutadans\, però sovint\, el nacionalisme i la religió actuen com a “distracció massiva” per allunyar l’atenció d’aquests objectius.
URL:https://octubre.cat/activitat/presentacio-del-llibre-a-la-recerca-del-benestar-dignasi-llorente/
LOCATION:No definit
CATEGORIES:Literatura
ATTACH;FMTTYPE=image/jpeg:https://octubre.cat/www/wp-content/uploads/2020/07/activitat1625.jpg
END:VEVENT
END:VCALENDAR