BEGIN:VCALENDAR
VERSION:2.0
PRODID:-//Octubre Centre de Cultura Contemporània - ECPv5.1.6//NONSGML v1.0//EN
CALSCALE:GREGORIAN
METHOD:PUBLISH
X-WR-CALNAME:Octubre Centre de Cultura Contemporània
X-ORIGINAL-URL:https://octubre.cat
X-WR-CALDESC:Events for Octubre Centre de Cultura Contemporània
BEGIN:VTIMEZONE
TZID:Europe/Andorra
BEGIN:DAYLIGHT
TZOFFSETFROM:+0100
TZOFFSETTO:+0200
TZNAME:CEST
DTSTART:20150329T010000
END:DAYLIGHT
BEGIN:STANDARD
TZOFFSETFROM:+0200
TZOFFSETTO:+0100
TZNAME:CET
DTSTART:20151025T010000
END:STANDARD
END:VTIMEZONE
BEGIN:VEVENT
DTSTART;TZID=Europe/Andorra:20151125T190000
DTEND;TZID=Europe/Andorra:20151125T190000
DTSTAMP:20260421T224906
CREATED:20200729T171442Z
LAST-MODIFIED:20200730T041613Z
UID:10414-1448478000-1448478000@octubre.cat
SUMMARY:Presentació del llibre '23'\, d'Ari Garrido
DESCRIPTION:Dimecres 25 de novembre a les 19.00h. Amb l’autora i Bibiana Collado.  \n  \n  \n\n (Editorial Germania)  La presentació anirà a càrrec de l’autora i de Bibiana Collado.
URL:https://octubre.cat/activitat/presentacio-del-llibre-23-dari-garrido/
LOCATION:Llibreria 3i4
CATEGORIES:Literatura
ATTACH;FMTTYPE=image/png:https://octubre.cat/www/wp-content/uploads/2020/07/activitat2453.png
END:VEVENT
END:VCALENDAR