BEGIN:VCALENDAR
VERSION:2.0
PRODID:-//Octubre Centre de Cultura Contemporània - ECPv5.1.6//NONSGML v1.0//EN
CALSCALE:GREGORIAN
METHOD:PUBLISH
X-WR-CALNAME:Octubre Centre de Cultura Contemporània
X-ORIGINAL-URL:https://octubre.cat
X-WR-CALDESC:Events for Octubre Centre de Cultura Contemporània
BEGIN:VTIMEZONE
TZID:Europe/Andorra
BEGIN:DAYLIGHT
TZOFFSETFROM:+0100
TZOFFSETTO:+0200
TZNAME:CEST
DTSTART:20170326T010000
END:DAYLIGHT
BEGIN:STANDARD
TZOFFSETFROM:+0200
TZOFFSETTO:+0100
TZNAME:CET
DTSTART:20171029T010000
END:STANDARD
END:VTIMEZONE
BEGIN:VEVENT
DTSTART;TZID=Europe/Andorra:20171010T190000
DTEND;TZID=Europe/Andorra:20171010T190000
DTSTAMP:20260420T144100
CREATED:20200729T172717Z
LAST-MODIFIED:20200729T185915Z
UID:11218-1507662000-1507662000@octubre.cat
SUMMARY:Presentació del I Congrés de materials per a una visió sociolingüística de la societat valenciana.
DESCRIPTION:Dimarts 10 d’octubre a les 19.00h. A la llibreria Fan Set.  \n  \n  \n\n Presentació del I Congrés de Materials per a una visió sociolingüística de la societat valenciana que se celebrarà el 17 d’octubre a la Facultat de Filologia de la Universitat de València.  Organitzat pel Grup de Sociolingüística de València.
URL:https://octubre.cat/activitat/presentacio-del-i-congres-de-materials-per-a-una-visio-sociolinguistica-de-la-societat-valenciana/
LOCATION:Llibreria Fan Set
CATEGORIES:Literatura
ATTACH;FMTTYPE=image/jpeg:https://octubre.cat/www/wp-content/uploads/2020/07/activitat2887.jpg
END:VEVENT
END:VCALENDAR