BEGIN:VCALENDAR
VERSION:2.0
PRODID:-//Octubre Centre de Cultura Contemporània - ECPv5.1.6//NONSGML v1.0//EN
CALSCALE:GREGORIAN
METHOD:PUBLISH
X-WR-CALNAME:Octubre Centre de Cultura Contemporània
X-ORIGINAL-URL:https://octubre.cat
X-WR-CALDESC:Events for Octubre Centre de Cultura Contemporània
BEGIN:VTIMEZONE
TZID:Europe/Andorra
BEGIN:DAYLIGHT
TZOFFSETFROM:+0100
TZOFFSETTO:+0200
TZNAME:CEST
DTSTART:20130331T010000
END:DAYLIGHT
BEGIN:STANDARD
TZOFFSETFROM:+0200
TZOFFSETTO:+0100
TZNAME:CET
DTSTART:20131027T010000
END:STANDARD
END:VTIMEZONE
BEGIN:VEVENT
DTSTART;TZID=Europe/Andorra:20130131T190000
DTEND;TZID=Europe/Andorra:20130131T190000
DTSTAMP:20260421T101303
CREATED:20200729T165919Z
LAST-MODIFIED:20200729T184011Z
UID:9464-1359658800-1359658800@octubre.cat
SUMMARY:Presentació del documental ‘Gazta zati bat’\, de Jon Maia
DESCRIPTION:Dijous 31 de gener a les 19.00h: Presentació del documental ‘Gazta zati bat’\, de Jon Maia  \n  \n  \n\n Aquest documental presenta el conflicte basc d’una forma innovadora: ofereix una mirada propera als grans fets\, conta la història amb lletra petita\, des d’allò més proper\, l’intimisme i l´humor… Incideix en el factor humà i s’allunya dels estereotips de la Història i les cròniques periodístiques. Gazta zati bat és un relat amb una mirada positiva posada en el futur. La història d’aquest documental comença en un petit poble d’Euskal Herria\, conegut en tot el món pel seu formatge. Els seus habitants deixen de banda les diferències creades per l’últim conflicte armat en Europa per tal de dur a terme una missió: poder elegir què ser en el mon. Aquesta aventura els durà a ser testimonis dels fets històrics de dos nacions d’Europa: Escòcia i Euskal Herria. Una gran història escrita en lletra petita.  Productora: Pixel Producciones Audiovisales SL / Nazioen Mundua Director: Jon Maia Producció executiva: Nazioen Mundua Guió: Jon Maia Direcció fotogràfica: Juantxo Sardon Música: Xabier Solano i Zigor Lanpre So en directe: Lolo Ruiz\, Iñigo Azkue (Pixel) Montatge: Eriz Zapirain Post Producció: Mikel Fuentes (Pixel) Post Producció de so: Beñat Gantxegi Càmeres: Juan Lius Eguskiza\, Alberto Catenacci\, Julian Gavilan (Pixel) Ajudants de producció: Marcos Antolini\, Eli Izquierdo\, Ainara Alvarez (Pixel) Comunicació: Oninart
URL:https://octubre.cat/activitat/presentacio-del-documental-gazta-zati-bat-de-jon-maia/
LOCATION:No definit
CATEGORIES:Cinema
ATTACH;FMTTYPE=image/jpeg:https://octubre.cat/www/wp-content/uploads/2020/07/activitat1714.jpg
END:VEVENT
END:VCALENDAR