BEGIN:VCALENDAR
VERSION:2.0
PRODID:-//Octubre Centre de Cultura Contemporània - ECPv5.1.6//NONSGML v1.0//EN
CALSCALE:GREGORIAN
METHOD:PUBLISH
X-WR-CALNAME:Octubre Centre de Cultura Contemporània
X-ORIGINAL-URL:https://octubre.cat
X-WR-CALDESC:Events for Octubre Centre de Cultura Contemporània
BEGIN:VTIMEZONE
TZID:Europe/Andorra
BEGIN:DAYLIGHT
TZOFFSETFROM:+0100
TZOFFSETTO:+0200
TZNAME:CEST
DTSTART:20150329T010000
END:DAYLIGHT
BEGIN:STANDARD
TZOFFSETFROM:+0200
TZOFFSETTO:+0100
TZNAME:CET
DTSTART:20151025T010000
END:STANDARD
END:VTIMEZONE
BEGIN:VEVENT
DTSTART;TZID=Europe/Andorra:20150505T190000
DTEND;TZID=Europe/Andorra:20150505T190000
DTSTAMP:20260422T030451
CREATED:20200729T171046Z
LAST-MODIFIED:20200730T041434Z
UID:10164-1430852400-1430852400@octubre.cat
SUMMARY:Presentació del documental 'Fent memòria... RTVV'
DESCRIPTION:Dimarts 5 de maig a les 19.00h. Posteriorment\, debat amb Rosa Solbes\, Toni Gisbert\, Ricard Prats i Sergi Moyano.  \n  \n  \n\n Amb la participació de  -Rosa Solbes\, expresidenta de la Unió de Periodistes Valencians -Toni Gisbert\, secretari d’Acció Cultural del País Valencià (ACPV) -Ricard Prats\, mànager i productor musical -Sergi Moyano\, autor del documental Fent memòria…RTVV  El documentari Fent memòria… RTVV conta la història de Ràdio Televisió Valenciana\, narrada per alguns dels seus extreballadors. Aquest documentari està fet amb la intenció de mantindre viva la flama de la lluita pel dret de tots els valencians i valencianes a tindre una ràdio i una televisió en la nostra llengua.  Organitzat per Fent Memòria i Acció Cultural del País Valencià (ACPV)  Vegeu el tràiler
URL:https://octubre.cat/activitat/presentacio-del-documental-fent-memoria-rtvv/
LOCATION:Sala d’actes
CATEGORIES:Cinema
ATTACH;FMTTYPE=image/jpeg:https://octubre.cat/www/wp-content/uploads/2020/07/activitat2320.jpg
END:VEVENT
END:VCALENDAR