BEGIN:VCALENDAR
VERSION:2.0
PRODID:-//Octubre Centre de Cultura Contemporània - ECPv5.1.6//NONSGML v1.0//EN
CALSCALE:GREGORIAN
METHOD:PUBLISH
X-WR-CALNAME:Octubre Centre de Cultura Contemporània
X-ORIGINAL-URL:https://octubre.cat
X-WR-CALDESC:Events for Octubre Centre de Cultura Contemporània
BEGIN:VTIMEZONE
TZID:Europe/Andorra
BEGIN:DAYLIGHT
TZOFFSETFROM:+0100
TZOFFSETTO:+0200
TZNAME:CEST
DTSTART:20170326T010000
END:DAYLIGHT
BEGIN:STANDARD
TZOFFSETFROM:+0200
TZOFFSETTO:+0100
TZNAME:CET
DTSTART:20171029T010000
END:STANDARD
END:VTIMEZONE
BEGIN:VEVENT
DTSTART;TZID=Europe/Andorra:20170214T193000
DTEND;TZID=Europe/Andorra:20170214T193000
DTSTAMP:20260420T223125
CREATED:20200729T172343Z
LAST-MODIFIED:20200729T185727Z
UID:10988-1487100600-1487100600@octubre.cat
SUMMARY:Presentació del disc 'Segona mà'\, de Tomàs de los Santos
DESCRIPTION:Dimarts 14 de febrer a les 19.30h i a la llibreria Fan Set.  \n  \n  \n\n Segona mà (Mésdemil\, 2016) és el segon treball d’estudi del músic i autor Tomàs de los Santos. És un recull de músiques i lletres fetes per convocar\, alhora\, emocions i consciències. Estan teixides amb la llana d’una mirada crítica a la quotidianitat i amb una actitud compromesa cap a les persones i la terra.  Tomàs de los Santos ha compost la música de les tretze cançons\, quatre de les quals són poemes musicats d’Omar Khayyam\, Rosa Leveroni i Valls\, Miquel Martí i Pol i Manel Alonso i Català. L’autor\, que és un assidu visitant de llibres de poesia\, hi torna a insistir en Segona mà. En treballs i col·laboracions anteriors ha musicat Vicent Andrés Estellés\, Joan Vinyoli\, Maria Mercè Marçal i Joan Salvat-Papasseit\, entre d’altres i actualment pren part de dos espectacles poeticomusicals: M’he estimat molt la vida\, junt amb l’actriu Sílvia Bel\, i Tant de bo!\, amb el poeta i cantautor Ivan Brull i la poetessa Mari Carmen Sàez.  Les altres nou cançons han estat escrites pel mateix autor. Cal ressaltar que d’aquestes últimes\, hi ha una en col·laboració amb el periodista i escriptor valencià\, Francesc Viadel.
URL:https://octubre.cat/activitat/presentacio-del-disc-segona-ma-de-tomas-de-los-santos/
LOCATION:Llibreria Fan Set
CATEGORIES:Literatura
ATTACH;FMTTYPE=image/jpeg:https://octubre.cat/www/wp-content/uploads/2020/07/activitat2755.jpg
END:VEVENT
END:VCALENDAR