BEGIN:VCALENDAR
VERSION:2.0
PRODID:-//Octubre Centre de Cultura Contemporània - ECPv5.1.6//NONSGML v1.0//EN
CALSCALE:GREGORIAN
METHOD:PUBLISH
X-WR-CALNAME:Octubre Centre de Cultura Contemporània
X-ORIGINAL-URL:https://octubre.cat
X-WR-CALDESC:Events for Octubre Centre de Cultura Contemporània
BEGIN:VTIMEZONE
TZID:Europe/Andorra
BEGIN:DAYLIGHT
TZOFFSETFROM:+0100
TZOFFSETTO:+0200
TZNAME:CEST
DTSTART:20150329T010000
END:DAYLIGHT
BEGIN:STANDARD
TZOFFSETFROM:+0200
TZOFFSETTO:+0100
TZNAME:CET
DTSTART:20151025T010000
END:STANDARD
END:VTIMEZONE
BEGIN:VEVENT
DTSTART;TZID=Europe/Andorra:20150611T190000
DTEND;TZID=Europe/Andorra:20150611T190000
DTSTAMP:20260422T001925
CREATED:20200729T171141Z
LAST-MODIFIED:20200730T041456Z
UID:10222-1434049200-1434049200@octubre.cat
SUMMARY:Presentació del disc 'Després vingué la música'\, de Manel Alonso
DESCRIPTION:Dijous 11 de juny a les 19.00h. A la llibreria 3i4.  \n  \n  \n\n Recull de poemes musicats de l’escriptor Manel Alonso i Català. Inclou\, entre d’altres\, peces de Rafael Estrada\, Carles Pastor\, Jesús Barranco (Gent del Desert)\, Manuel Garrido “Garri Campanillo” (Tàpera)\, Doctor Dropo\, Juanen Carreres (ex-Infussió)\, Lluís Vicent\, Carles Enguix\, Rubén Durà\, etc.
URL:https://octubre.cat/activitat/presentacio-del-disc-despres-vingue-la-musica-de-manel-alonso/
LOCATION:Llibreria 3i4
CATEGORIES:Literatura
ATTACH;FMTTYPE=image/jpeg:https://octubre.cat/www/wp-content/uploads/2020/07/activitat2348.jpg
END:VEVENT
END:VCALENDAR