BEGIN:VCALENDAR
VERSION:2.0
PRODID:-//Octubre Centre de Cultura Contemporània - ECPv5.1.6//NONSGML v1.0//EN
CALSCALE:GREGORIAN
METHOD:PUBLISH
X-WR-CALNAME:Octubre Centre de Cultura Contemporània
X-ORIGINAL-URL:https://octubre.cat
X-WR-CALDESC:Events for Octubre Centre de Cultura Contemporània
BEGIN:VTIMEZONE
TZID:Europe/Andorra
BEGIN:DAYLIGHT
TZOFFSETFROM:+0100
TZOFFSETTO:+0200
TZNAME:CEST
DTSTART:20150329T010000
END:DAYLIGHT
BEGIN:STANDARD
TZOFFSETFROM:+0200
TZOFFSETTO:+0100
TZNAME:CET
DTSTART:20151025T010000
END:STANDARD
END:VTIMEZONE
BEGIN:VEVENT
DTSTART;TZID=Europe/Andorra:20150302T180000
DTEND;TZID=Europe/Andorra:20150302T180000
DTSTAMP:20260422T032659
CREATED:20200729T170950Z
LAST-MODIFIED:20200730T041410Z
UID:10102-1425319200-1425319200@octubre.cat
SUMMARY:Presentació del decàleg 'Pacte per l'autonomia personal i la dependència'
DESCRIPTION:Dilluns 2 de març a les 18.00h. Organitzat per la Coordinadora de Discapacitat i Dependència de València\, amb els representants dels principals partits polítics.  \n  \n  \n\n L’acte comptarà amb la presència de la majoria dels candidats/es dels principals partits que es presenten a les eleccions autonòmiques valencianes el proper 25 de maig.  Els esmentats candidats participaran amb representants de la Coordinadora D&D de València en una taula rodona per debatre els principals conflictes que té l’àmbit de la discapacitat i la dependència des de l’aplicació de la Llei per l’autonomia de les persones en situació de dependència i\, a més a més\, del seu desenvolupament a la Comunitat Valenciana. Se significaran també les darreres mesures del Govern valencià en l’àmbit de les persones amb discapacitat i/o dependència: minoració de subvencions\, retallament de prestacions\, cuidadors no professionals\, introducció del copagament als centres\, desaparició de la mesa negociadora amb els agents socials…  Per finalitzar\, es farà la presentació del DECÀLEG que pretén un nou model d’intervenció social\, política i econòmica al món de la discapacitat i la dependència. Una nova llei de serveis socials a la Comunitat Valenciana\, retirada del copagament\, prestacions justes…   Es pretén un pacte de tots els partits polítics i organitzacions socials per donar una resposta als conflictes innecessaris que es donen al voltant de les polítiques de discapacitat i dependència.   Ja han confirmat la presència a l’acte: Mònica Oltra (Compromís)\, Ignaci Blanco (EUPV)\, Agustí Cerdà (ERPV)\, Antonio Torres (PSPV-PSOE) i Toni Cantó (UPiD).  Aquest acte finalitzarà amb la signatura del decàleg per aquelles organitzacions presents que vulguen incloure aquesta proposta als seus programes electorals i es comprometen a desenvolupar-lo en el cas de participar en el nou parlament i/o govern.  Organitzat per la Coordinadora de Discapacitat i Dependència de València
URL:https://octubre.cat/activitat/presentacio-del-decaleg-pacte-per-lautonomia-personal-i-la-dependencia/
CATEGORIES:Conferències i congressos
ATTACH;FMTTYPE=image/jpeg:https://octubre.cat/www/wp-content/uploads/2020/07/activitat2285.jpg
END:VEVENT
END:VCALENDAR