BEGIN:VCALENDAR
VERSION:2.0
PRODID:-//Octubre Centre de Cultura Contemporània - ECPv5.1.6//NONSGML v1.0//EN
CALSCALE:GREGORIAN
METHOD:PUBLISH
X-WR-CALNAME:Octubre Centre de Cultura Contemporània
X-ORIGINAL-URL:https://octubre.cat
X-WR-CALDESC:Events for Octubre Centre de Cultura Contemporània
BEGIN:VTIMEZONE
TZID:Europe/Andorra
BEGIN:DAYLIGHT
TZOFFSETFROM:+0100
TZOFFSETTO:+0200
TZNAME:CEST
DTSTART:20170326T010000
END:DAYLIGHT
BEGIN:STANDARD
TZOFFSETFROM:+0200
TZOFFSETTO:+0100
TZNAME:CET
DTSTART:20171029T010000
END:STANDARD
END:VTIMEZONE
BEGIN:VEVENT
DTSTART;TZID=Europe/Andorra:20171017T190000
DTEND;TZID=Europe/Andorra:20171017T190000
DTSTAMP:20260420T104530
CREATED:20200729T190145Z
LAST-MODIFIED:20200729T190145Z
UID:13253-1508266800-1508266800@octubre.cat
SUMMARY:Presentació del darrer número de 'Saó'
DESCRIPTION:Dedicat als 150 anys de l’Escola de Magisteri de València. Dimarts 17 d’octubre a les 19.00h.  \n  \n  \n\n Presentació del número de la revista Saó dedicat als 150 anys de l’Escola de Magisteri de València.  Amb Carme Agulló\, Vicent Boscà\, Adela Costa\, Glòria Gonzàlez\, Carme Miquel\, Alfred Ramos\, Pilar Tormo i Ferran Zurriaga.
URL:https://octubre.cat/activitat/presentacio-del-darrer-numero-de-sao/
LOCATION:Llibreria Fan Set
CATEGORIES:Literatura
ATTACH;FMTTYPE=image/jpeg:https://octubre.cat/www/wp-content/uploads/2020/07/activitat2893.jpg
END:VEVENT
END:VCALENDAR