BEGIN:VCALENDAR
VERSION:2.0
PRODID:-//Octubre Centre de Cultura Contemporània - ECPv5.1.6//NONSGML v1.0//EN
CALSCALE:GREGORIAN
METHOD:PUBLISH
X-WR-CALNAME:Octubre Centre de Cultura Contemporània
X-ORIGINAL-URL:https://octubre.cat
X-WR-CALDESC:Events for Octubre Centre de Cultura Contemporània
BEGIN:VTIMEZONE
TZID:Europe/Andorra
BEGIN:DAYLIGHT
TZOFFSETFROM:+0100
TZOFFSETTO:+0200
TZNAME:CEST
DTSTART:20190331T010000
END:DAYLIGHT
BEGIN:STANDARD
TZOFFSETFROM:+0200
TZOFFSETTO:+0100
TZNAME:CET
DTSTART:20191027T010000
END:STANDARD
END:VTIMEZONE
BEGIN:VEVENT
DTSTART;TZID=Europe/Andorra:20191008T190000
DTEND;TZID=Europe/Andorra:20191008T190000
DTSTAMP:20260425T175212
CREATED:20200729T173454Z
LAST-MODIFIED:20200729T191220Z
UID:11487-1570561200-1570561200@octubre.cat
SUMMARY:Presentació del conte "La colla de Nelson"
DESCRIPTION:Dimarts 8 d’octubre a les 19.00h a la llibreria Fan Set. Un projecte d’ASAEM\, Associació de la Safor d’Ajuda a Malalts Mentals.	 \n  \n  \n\n 	 Amb els autors acompanyats per Llum Moral\, coordinadora de la Federació de Salut Mental.  La colla de Nelson\, de José Figueres i la il·lustradora Aitana Carrasco és un projecte de l’Associació de la Safor d’Ajuda a Malalts Mentals\, ASAEM.  El conte aborda el tema de la salut mental per als xiquets de 3 a 7 anys a través de personatges que han nascut de l’experiència del propi autor\, que és integrador social en un centre de menors. Tots ells compten amb limitacions físiques o cognitives que els fa diferents; per exemple el protagonista\, Nelson\, és un bou que no té banyes.
URL:https://octubre.cat/activitat/presentacio-del-conte-la-colla-de-nelson/
LOCATION:Llibreria Fan Set
CATEGORIES:Literatura
ATTACH;FMTTYPE=image/jpeg:https://octubre.cat/www/wp-content/uploads/2020/07/activitat3332.jpg
END:VEVENT
END:VCALENDAR