BEGIN:VCALENDAR
VERSION:2.0
PRODID:-//Octubre Centre de Cultura Contemporània - ECPv5.1.6//NONSGML v1.0//EN
CALSCALE:GREGORIAN
METHOD:PUBLISH
X-WR-CALNAME:Octubre Centre de Cultura Contemporània
X-ORIGINAL-URL:https://octubre.cat
X-WR-CALDESC:Events for Octubre Centre de Cultura Contemporània
BEGIN:VTIMEZONE
TZID:Europe/Andorra
BEGIN:DAYLIGHT
TZOFFSETFROM:+0100
TZOFFSETTO:+0200
TZNAME:CEST
DTSTART:20220327T010000
END:DAYLIGHT
BEGIN:STANDARD
TZOFFSETFROM:+0200
TZOFFSETTO:+0100
TZNAME:CET
DTSTART:20221030T010000
END:STANDARD
END:VTIMEZONE
BEGIN:VEVENT
DTSTART;TZID=Europe/Andorra:20220124T190000
DTEND;TZID=Europe/Andorra:20220124T190000
DTSTAMP:20260420T125007
CREATED:20220111T181612Z
LAST-MODIFIED:20250624T100441Z
UID:17632-1643050800-1643050800@octubre.cat
SUMMARY:Presentació del còmic La classe encesa\, de Joan Collado i Jesús Muñoz (Pont Flotant)
DESCRIPTION:Una novel·la gràfica basada en una experiència escènica real (el poder transformador de les arts escèniques a través del còmic) \nAMB LA PRESÈNCIA DE:\n– Joan Collado i Jesús Muñoz (creadors del còmic) i la companyia Pont Flotant.\n– Alguns dels joves protagonistes i altres col·laboradores del projecte.  \nLa Classe Encesa és una novel·la gràfica basada en una experiència escènica real de la companyia Pont Flotant amb joves menors migrants\, que es presenta a la comunitat educativa\, tant a Secundària\, com a Estudis Superiors especialitzats en l’àmbit social com en Centres de Formació Escènica. \nOriginalment\, La Classe Encesa és el títol d’una obra de teatre que Pont Flotant va crear amb 14 joves marroquins del Centre de Recepció de Menors de Bunyol\, com a fruit d’un taller escènic que la companyia va impartir entre setembre i desembre del 2017. L’obra es va presentar a l’Espai El Mercat per al veïns i veïnes del poble i va rebre una boníssima acollida. \nAl llarg d’aquells 3 mesos\, el periodista i documentalista Raúl Riebenbauer\, va fer un seguiment de les sessions amb un equip de rodatge per filmar el que acabaria sent Ahir/demà\, un migmetratge documental que s’ha revelat com a una potent eina de sensibilització sobre la realitat del col·lectiu dels joves menors migrants. La pel·lícula va obtindre el Premi del Públic en el Festival de Cinema Documental de Tessalònica (2019) i ha participat en els festivals Docs València i Docs Barcelona (a l’Octubre CCC se’n van fer dues projeccions el novembre de 2019). \nEntre setembre del 2020 i juny de 2021\, 3 anys després d’aquell taller de teatre\, Pont Flotant es va retrobar amb els joves de La Classe Encesa per desenvolupar un projecte formatiu i de sensibilització social\, que ha portat aquest documental a diversos Centres Educatius de Secundària del País Valencià. A dia de hui\, més de 500 alumnes han vist la pel·lícula i han conegut de primera mà el present d’aquets joves migrants a través d’un col·loqui posterior a la projecció. \n  \n \n  \nDonada la potent ferramenta pedagògica i de difusió escènica en què s’han revelat al llarg d’estos anys de treball\, tant el Taller\, com el Documental\, la companyia ha creat un còmic\, una novel·la gràfica que reflecteix el procés de creació de l’obra de teatre La classe encesa\, amb la voluntat de potenciar\, donar difusió i posar en valor tant les Arts Escèniques com a eina de treball artístic i pedagògic\, com el llenguatge plàstic i visual com a ferramenta d’aproximació\, també\, al teatre i\, sobretot\, als seus processos de creació. Este còmic servirà de material complementari tant per als espectadors que ja han assistit a les Projeccions ja realitzades com per a les futures\, així mateix\, esdevindrà un recurs autònom ideal per a conéixer de primera mà l’experiència en un Centre de Recepció de Menors i el procés de creació d’una obra de teatre a partir d’un Taller de creació Escènica. \nAmb aquest projecte volem impulsar les arts escèniques\, les arts plàstiques\, el cinema i les arts en general com a eina indispensable en l’àmbit educatiu i com a un element vertebrador important en la construcció d’una societat més plural\, més empàtica\, més tolerant\, més cohesionada… més sana.
URL:https://octubre.cat/activitat/presentacio-del-comic-la-classe-encesa-de-joan-collado-i-jesus-munoz/
LOCATION:Sala d’actes
CATEGORIES:Literatura
ATTACH;FMTTYPE=image/jpeg:https://octubre.cat/www/wp-content/uploads/2022/01/pont-flotant-pral.jpg
END:VEVENT
END:VCALENDAR