BEGIN:VCALENDAR
VERSION:2.0
PRODID:-//Octubre Centre de Cultura Contemporània - ECPv5.1.6//NONSGML v1.0//EN
CALSCALE:GREGORIAN
METHOD:PUBLISH
X-WR-CALNAME:Octubre Centre de Cultura Contemporània
X-ORIGINAL-URL:https://octubre.cat
X-WR-CALDESC:Events for Octubre Centre de Cultura Contemporània
BEGIN:VTIMEZONE
TZID:Europe/Andorra
BEGIN:DAYLIGHT
TZOFFSETFROM:+0100
TZOFFSETTO:+0200
TZNAME:CEST
DTSTART:20180325T010000
END:DAYLIGHT
BEGIN:STANDARD
TZOFFSETFROM:+0200
TZOFFSETTO:+0100
TZNAME:CET
DTSTART:20181028T010000
END:STANDARD
END:VTIMEZONE
BEGIN:VEVENT
DTSTART;TZID=Europe/Andorra:20180615T190000
DTEND;TZID=Europe/Andorra:20180615T190000
DTSTAMP:20260421T190748
CREATED:20200729T173042Z
LAST-MODIFIED:20200729T190849Z
UID:11226-1529089200-1529089200@octubre.cat
SUMMARY:Presentació del Col·lectiu Pere Quart
DESCRIPTION:Divendres 15 de juny a les 19.00h. Col·lectiu dedicat a la defensa activa de la literatura catalana a les aules. Amb Francesc Foguet\, Joan Martori\, Anton Carbonell i Manuel Molins.	 \n  \n  \n\n 	 El proper 15 de juny\, diversos membres del Col·lectiu Pere Quart (CPQ) presentaran a l’Octubre Centre de Cultura Contemporània de València la finalitat i els objectius d’aquesta associació cultural\, dedicada a la defensa activa de la literatura catalana a les aules. A més d’explicar la gènesi\, les accions i els vincles del CPQ\, també abordaran\, des de la seua experiència com a professors\, la situació de la literatura a la secundària i a la universitat.  Hi intervindran: Francesc Foguet\, professor de literatura a la UAB; Joan Martori\, secretari del CPQ; Anton Carbonell\, president del CPQ\, i Manuel Molins\, dramaturg i professor.
URL:https://octubre.cat/activitat/presentacio-del-collectiu-pere-quart/
LOCATION:Àtic
CATEGORIES:Literatura
ATTACH;FMTTYPE=image/jpeg:https://octubre.cat/www/wp-content/uploads/2020/07/activitat3066.jpg
END:VEVENT
END:VCALENDAR