BEGIN:VCALENDAR
VERSION:2.0
PRODID:-//Octubre Centre de Cultura Contemporània - ECPv5.1.6//NONSGML v1.0//EN
CALSCALE:GREGORIAN
METHOD:PUBLISH
X-WR-CALNAME:Octubre Centre de Cultura Contemporània
X-ORIGINAL-URL:https://octubre.cat
X-WR-CALDESC:Events for Octubre Centre de Cultura Contemporània
BEGIN:VTIMEZONE
TZID:Europe/Andorra
BEGIN:DAYLIGHT
TZOFFSETFROM:+0100
TZOFFSETTO:+0200
TZNAME:CEST
DTSTART:20070325T010000
END:DAYLIGHT
BEGIN:STANDARD
TZOFFSETFROM:+0200
TZOFFSETTO:+0100
TZNAME:CET
DTSTART:20071028T010000
END:STANDARD
END:VTIMEZONE
BEGIN:VEVENT
DTSTART;TZID=Europe/Andorra:20071020T193000
DTEND;TZID=Europe/Andorra:20071020T193000
DTSTAMP:20260420T232022
CREATED:20200729T181540Z
LAST-MODIFIED:20260203T170907Z
UID:12388-1192908600-1192908600@octubre.cat
SUMMARY:Falla Arrancapins: presentació del CD De la Terra
DESCRIPTION:La Falla Arrancapins\, dins les activitats especials que realitza  per commemorar el seu Centenari\, presenta el CD col·lectiu De la Terra.  En el disc\, produït per l’entitat\, han participat una gran part de les formacions valencianes actuals de música folk i de cantautor: Sonadors de la Guaita\, Colla El Cudol i Colla d’Algemesí\,  Aljub\, La Beniterrània\, Urbàlia Rurana\, Tres Fan Ball\, L’Ham de Foc\, Pep Gimeno “Botifarra”\, Quamlibet\, Al Tall\, Miquel Gil\, Rafa Xambó\, Màrius Asensi\, Pau Alabajos\, Eva Dénia\, El Cau del Llop\, Burguitos\, Òscar Briz\, Àlvar Carpi i Álvaro Domènech. \nHi actuaran: Colles d’El Cudol i d’Algemesí\, La Beniterrània\, Mara Aranda (l’Ham de Foc)\, Màrius Asensi\, Álvaro Domènech\, Àlvar Carpi i Eva Dénia.\nPresentarà l’acte: Josep Vicent Frechina.
URL:https://octubre.cat/activitat/presentacio-del-cd-de-la-terra/
LOCATION:No definit
CATEGORIES:Música
ATTACH;FMTTYPE=image/jpeg:https://octubre.cat/www/wp-content/uploads/2020/07/musica1.jpg
END:VEVENT
END:VCALENDAR