BEGIN:VCALENDAR
VERSION:2.0
PRODID:-//Octubre Centre de Cultura Contemporània - ECPv5.1.6//NONSGML v1.0//EN
CALSCALE:GREGORIAN
METHOD:PUBLISH
X-WR-CALNAME:Octubre Centre de Cultura Contemporània
X-ORIGINAL-URL:https://octubre.cat
X-WR-CALDESC:Events for Octubre Centre de Cultura Contemporània
BEGIN:VTIMEZONE
TZID:Europe/Andorra
BEGIN:DAYLIGHT
TZOFFSETFROM:+0100
TZOFFSETTO:+0200
TZNAME:CEST
DTSTART:20190331T010000
END:DAYLIGHT
BEGIN:STANDARD
TZOFFSETFROM:+0200
TZOFFSETTO:+0100
TZNAME:CET
DTSTART:20191027T010000
END:STANDARD
END:VTIMEZONE
BEGIN:VEVENT
DTSTART;TZID=Europe/Andorra:20191018T190000
DTEND;TZID=Europe/Andorra:20191018T190000
DTSTAMP:20260420T152846
CREATED:20200729T173532Z
LAST-MODIFIED:20200729T191236Z
UID:11533-1571425200-1571425200@octubre.cat
SUMMARY:Presentació del cartell de Ciutat Vella Oberta 2019
DESCRIPTION:Divendres 18 d’octubre a les 19.00h.	 \n  \n  \n\n 	 Biennal de València / Ciutat Vella Oberta  Presentació del cartell de l’edició d’enguany i de les activitats que tindran lloc del 12 al 17 de novembre.
URL:https://octubre.cat/activitat/presentacio-del-cartell-de-ciutat-vella-oberta-2019/
LOCATION:Terrat
CATEGORIES:Literatura
ATTACH;FMTTYPE=image/jpeg:https://octubre.cat/www/wp-content/uploads/2020/07/activitat3352.jpg
END:VEVENT
END:VCALENDAR