BEGIN:VCALENDAR
VERSION:2.0
PRODID:-//Octubre Centre de Cultura Contemporània - ECPv5.1.6//NONSGML v1.0//EN
CALSCALE:GREGORIAN
METHOD:PUBLISH
X-WR-CALNAME:Octubre Centre de Cultura Contemporània
X-ORIGINAL-URL:https://octubre.cat
X-WR-CALDESC:Events for Octubre Centre de Cultura Contemporània
BEGIN:VTIMEZONE
TZID:Europe/Andorra
BEGIN:DAYLIGHT
TZOFFSETFROM:+0100
TZOFFSETTO:+0200
TZNAME:CEST
DTSTART:20080330T010000
END:DAYLIGHT
BEGIN:STANDARD
TZOFFSETFROM:+0200
TZOFFSETTO:+0100
TZNAME:CET
DTSTART:20081026T010000
END:STANDARD
END:VTIMEZONE
BEGIN:VEVENT
DTSTART;TZID=Europe/Andorra:20080522T200000
DTEND;TZID=Europe/Andorra:20080522T200000
DTSTAMP:20260423T001100
CREATED:20200729T181913Z
LAST-MODIFIED:20200730T035749Z
UID:12592-1211486400-1211486400@octubre.cat
SUMMARY:Presentació de Viatges Banoa
DESCRIPTION:Com cada any per aquestes dates\, ja tenim a punt les nostres propostes\, recollides al BUTLLETÍ DE VIATGES 2008\, on hi trobareu tant els viatges de sempre (amb les millores i ajustos de rigor\, és clar) com les rutes noves\, pensades amb la intenció de fer-vos propostes engrescadores. Tot per poder gaudir plegats d’un altre estiu\, amb els “altres viatges”. Aprofitarem l’avinentesa per presentar l’audiovisual “R.D. del Congo (l’antic Zaire) El cor trencat d’Àfrica”.
URL:https://octubre.cat/activitat/presentacio-de-viatges-banoa/
LOCATION:No definit
CATEGORIES:Literatura
ATTACH;FMTTYPE=image/jpeg:https://octubre.cat/www/wp-content/uploads/2020/07/presentacions1.jpg
END:VEVENT
END:VCALENDAR