BEGIN:VCALENDAR
VERSION:2.0
PRODID:-//Octubre Centre de Cultura Contemporània - ECPv5.1.6//NONSGML v1.0//EN
CALSCALE:GREGORIAN
METHOD:PUBLISH
X-WR-CALNAME:Octubre Centre de Cultura Contemporània
X-ORIGINAL-URL:https://octubre.cat
X-WR-CALDESC:Events for Octubre Centre de Cultura Contemporània
BEGIN:VTIMEZONE
TZID:Europe/Andorra
BEGIN:DAYLIGHT
TZOFFSETFROM:+0100
TZOFFSETTO:+0200
TZNAME:CEST
DTSTART:20160327T010000
END:DAYLIGHT
BEGIN:STANDARD
TZOFFSETFROM:+0200
TZOFFSETTO:+0100
TZNAME:CET
DTSTART:20161030T010000
END:STANDARD
END:VTIMEZONE
BEGIN:VEVENT
DTSTART;TZID=Europe/Andorra:20160407T190000
DTEND;TZID=Europe/Andorra:20160407T190000
DTSTAMP:20260421T153512
CREATED:20200729T171732Z
LAST-MODIFIED:20200729T185441Z
UID:10593-1460055600-1460055600@octubre.cat
SUMMARY:Presentació de 'Valencians sense ADN'\, de Ferran Garcia-Oliver
DESCRIPTION:Dijous 7 d’abril a les 19.00h. Amb l’autor\, Enric Morera\, Gustau Muñoz i Laia Climent.  \n  \n  \n\n Valencians sense ADN. Relats dels orígens. Premi Joan Fuster d’assaig dels Premis Octubre 2015 (Edicions 3i4).  La presentació anirà a càrrec de l’autor\, acompanyat per Enric Morera (president de les Corts Valencianes)\, Gustau Muñoz (director de la revista L’Espill) i Laia Climent (editora).  Sovint l’origen dels valencians s’ha prestat a fantasies i a especulacions renyides amb la recerca científica. Darrerament\, n’hi ha que han apel·lat fins i tot a l’ADN per tal d’invocar una immutabilitat genètica des de la més profunda Prehistòria. En aquest llibre\, Ferran Garcia-Oliver rebat la presumpta «puresa de la sang» dels valencians\, atesos els diversos pobles que passaren o s’instal·laren entre el riu de la Sénia i el Segura. Però\, sobretot\, mira d’examinar com s’han jutjat les aportacions de tots aquests pobles i col·lectius ètnics. Hi ha\, en efecte\, una «narrativa dels orígens»\, a través de la qual emergeixen els afectes i els animadversions enfront d’aquest o aquell poble\, els silencis\, les ocultacions i els prejudicis  —i també l’honestedat— dels historiadors\, erudits i lletraferits que s’han ocupat d’una qüestió discutida habitualment amb passió. La naturalesa de la llengua i la definició de la «nació»\, no hi ha cap dubte\, s’insereixen de ple en el litigi dels orígens\, motius pels quals el debat ara i adés depassa l’àmbit exclusivament acadèmic per convertir-se en aspre cavall de batalla política.
URL:https://octubre.cat/activitat/presentacio-de-valencians-sense-adn-de-ferran-garcia-oliver/
LOCATION:No definit
CATEGORIES:Literatura
ATTACH;FMTTYPE=image/jpeg:https://octubre.cat/www/wp-content/uploads/2020/07/activitat2545.jpg
END:VEVENT
END:VCALENDAR