BEGIN:VCALENDAR
VERSION:2.0
PRODID:-//Octubre Centre de Cultura Contemporània - ECPv5.1.6//NONSGML v1.0//EN
CALSCALE:GREGORIAN
METHOD:PUBLISH
X-WR-CALNAME:Octubre Centre de Cultura Contemporània
X-ORIGINAL-URL:https://octubre.cat
X-WR-CALDESC:Events for Octubre Centre de Cultura Contemporània
BEGIN:VTIMEZONE
TZID:Europe/Andorra
BEGIN:DAYLIGHT
TZOFFSETFROM:+0100
TZOFFSETTO:+0200
TZNAME:CEST
DTSTART:20180325T010000
END:DAYLIGHT
BEGIN:STANDARD
TZOFFSETFROM:+0200
TZOFFSETTO:+0100
TZNAME:CET
DTSTART:20181028T010000
END:STANDARD
END:VTIMEZONE
BEGIN:VEVENT
DTSTART;TZID=Europe/Andorra:20181120T190000
DTEND;TZID=Europe/Andorra:20181120T190000
DTSTAMP:20260422T012008
CREATED:20200729T173211Z
LAST-MODIFIED:20200729T191000Z
UID:11315-1542740400-1542740400@octubre.cat
SUMMARY:Presentació de 'Valencià en xarxa'
DESCRIPTION:Dimarts 20 novembre a les 19.00h. Organitzat per ACPV i 1entretants.	 \n  \n  \n\n 	 “Valencià en xarxa” és un projecte compartit entre Acció Cultural del País Valencià i Un entre tants que pretén posar a l’abast d’ensenyants i aprenents\, de famílies i ciutadania\, recursos educatius i d’oci (jocs\, materials\, educatius…) per aprendre i viure en la nostra llengua.  Us convidem a conèixer el projecte i a participar-hi.  Amb —Anna Gascon\, Secció d’Ensenyament d’ACPV —Vicent Ferrer\, president d’Un entre tants —Joan Josep Pastor\, responsable tècnic del projecte  Organitzat per ACPV i 1entretants
URL:https://octubre.cat/activitat/presentacio-de-valencia-en-xarxa/
CATEGORIES:Conferències i congressos
ATTACH;FMTTYPE=image/jpeg:https://octubre.cat/www/wp-content/uploads/2020/07/activitat3153.jpg
END:VEVENT
END:VCALENDAR