BEGIN:VCALENDAR
VERSION:2.0
PRODID:-//Octubre Centre de Cultura Contemporània - ECPv5.1.6//NONSGML v1.0//EN
CALSCALE:GREGORIAN
METHOD:PUBLISH
X-WR-CALNAME:Octubre Centre de Cultura Contemporània
X-ORIGINAL-URL:https://octubre.cat
X-WR-CALDESC:Events for Octubre Centre de Cultura Contemporània
BEGIN:VTIMEZONE
TZID:Europe/Andorra
BEGIN:DAYLIGHT
TZOFFSETFROM:+0100
TZOFFSETTO:+0200
TZNAME:CEST
DTSTART:20130331T010000
END:DAYLIGHT
BEGIN:STANDARD
TZOFFSETFROM:+0200
TZOFFSETTO:+0100
TZNAME:CET
DTSTART:20131027T010000
END:STANDARD
END:VTIMEZONE
BEGIN:VEVENT
DTSTART;TZID=Europe/Andorra:20130710T190000
DTEND;TZID=Europe/Andorra:20130710T190000
DTSTAMP:20260424T042838
CREATED:20200729T170124Z
LAST-MODIFIED:20200729T184154Z
UID:9580-1373482800-1373482800@octubre.cat
SUMMARY:Presentació de 'Tombes i lletres'
DESCRIPTION:Dimecres 10 de juliol a les 19.00h\, presentació del llibre “Tombes i lletres” (Edicions Sidillà)  \n  \n  \n\n Tombes i lletres (Sidillà) homenatja una quarantena d’escriptors de la nostra literatura. Parlarem dels recorreguts literaris pels cementiris i un grup de poetes valencians ens n’explicaran l’experiència (ben creativa) pròpia.  Tertúlia amb Ramon Guillem\, Francesc Mompó\, Eusebi Morales i Xavier Cortadellas
URL:https://octubre.cat/activitat/presentacio-de-tombes-i-lletres/
LOCATION:Llibreria 3i4
CATEGORIES:Literatura
ATTACH;FMTTYPE=image/jpeg:https://octubre.cat/www/wp-content/uploads/2020/07/activitat1839.jpg
END:VEVENT
END:VCALENDAR