BEGIN:VCALENDAR
VERSION:2.0
PRODID:-//Octubre Centre de Cultura Contemporània - ECPv5.1.6//NONSGML v1.0//EN
CALSCALE:GREGORIAN
METHOD:PUBLISH
X-WR-CALNAME:Octubre Centre de Cultura Contemporània
X-ORIGINAL-URL:https://octubre.cat
X-WR-CALDESC:Events for Octubre Centre de Cultura Contemporània
BEGIN:VTIMEZONE
TZID:Europe/Andorra
BEGIN:DAYLIGHT
TZOFFSETFROM:+0100
TZOFFSETTO:+0200
TZNAME:CEST
DTSTART:20190331T010000
END:DAYLIGHT
BEGIN:STANDARD
TZOFFSETFROM:+0200
TZOFFSETTO:+0100
TZNAME:CET
DTSTART:20191027T010000
END:STANDARD
END:VTIMEZONE
BEGIN:VEVENT
DTSTART;TZID=Europe/Andorra:20190625T190000
DTEND;TZID=Europe/Andorra:20190625T190000
DTSTAMP:20260421T085601
CREATED:20200729T173424Z
LAST-MODIFIED:20200729T191155Z
UID:11456-1561489200-1561489200@octubre.cat
SUMMARY:Presentació de "Quaderns de la Mediterrània" #27
DESCRIPTION:Dimarts 25 de juny a les 19.00h. Amb Maria Àngels Roque\, Lola Bañon\, Maite Ibáñez i Leyla Kucukalic.	 \n  \n  \n\n 	 Identitats i memòria. Repensar el patrimoni cultural de la Mediterrània.  Amb les intervencions de: —Maria Àngels Roque\, antropòloga i directora de la publicació —Lola Bañion\, periodista i directora de la Fundació ACM —Maite Ibáñez\, gestora cultural i crítica d’art —Leyla Kucukalic\, investigadora UPV i artista visual  Fundació Assemblea de Ciutadans del Mediterrani Institut Europeu de la Mediterrània
URL:https://octubre.cat/activitat/presentacio-de-quaderns-de-la-mediterrania-27/
LOCATION:Llibreria Fan Set
CATEGORIES:Literatura
ATTACH;FMTTYPE=image/png:https://octubre.cat/www/wp-content/uploads/2020/07/activitat3302.png
END:VEVENT
END:VCALENDAR