BEGIN:VCALENDAR
VERSION:2.0
PRODID:-//Octubre Centre de Cultura Contemporània - ECPv5.1.6//NONSGML v1.0//EN
CALSCALE:GREGORIAN
METHOD:PUBLISH
X-WR-CALNAME:Octubre Centre de Cultura Contemporània
X-ORIGINAL-URL:https://octubre.cat
X-WR-CALDESC:Events for Octubre Centre de Cultura Contemporània
BEGIN:VTIMEZONE
TZID:Europe/Andorra
BEGIN:DAYLIGHT
TZOFFSETFROM:+0100
TZOFFSETTO:+0200
TZNAME:CEST
DTSTART:20160327T010000
END:DAYLIGHT
BEGIN:STANDARD
TZOFFSETFROM:+0200
TZOFFSETTO:+0100
TZNAME:CET
DTSTART:20161030T010000
END:STANDARD
END:VTIMEZONE
BEGIN:VEVENT
DTSTART;TZID=Europe/Andorra:20160518T190000
DTEND;TZID=Europe/Andorra:20160518T190000
DTSTAMP:20260421T151710
CREATED:20200729T171818Z
LAST-MODIFIED:20200729T185502Z
UID:10643-1463598000-1463598000@octubre.cat
SUMMARY:Presentació de 'Poesia reunida'\, de Dylan Thomas
DESCRIPTION:Dimecres 18 de maig a les 19.00h. A càrrec d’Isidre Martínez Marzo (traductor) i Joan Ramon Piera (editor).  \n  \n  \n\n Poesia reunida (1934-1952) (Edicions Els Llums). A càrrec d’Isidre Martínez Marzo (traductor) i Joan Ramon Piera (editor).  El llibre pren com a punt de partida l’edició original de Collected Poems: 1934-1952\, de la qual va tenir cura el mateix autor encara en vida. Té el gran avantatge\, doncs\, de contenir allò que l’autor volia preservar. Dylan Thomas era un poeta total i\, potser\, el més maleït de tots\, ja que va ser condemnat a disposar d’una sensibilitat exquisida en un temps difícil i un paisatge indefectiblement gris. Dur la seva obra a la nostra llengua no ha estat senzill\, però ho ha fet possible la tenacitat i bon treball del també poeta Isidre Martínez Marzo (premi Carles Riba 2005).
URL:https://octubre.cat/activitat/presentacio-de-poesia-reunida-de-dylan-thomas/
LOCATION:Llibreria 3i4
CATEGORIES:Literatura
ATTACH;FMTTYPE=image/jpeg:https://octubre.cat/www/wp-content/uploads/2020/07/activitat2570.jpg
END:VEVENT
END:VCALENDAR