BEGIN:VCALENDAR
VERSION:2.0
PRODID:-//Octubre Centre de Cultura Contemporània - ECPv5.1.6//NONSGML v1.0//EN
CALSCALE:GREGORIAN
METHOD:PUBLISH
X-WR-CALNAME:Octubre Centre de Cultura Contemporània
X-ORIGINAL-URL:https://octubre.cat
X-WR-CALDESC:Events for Octubre Centre de Cultura Contemporània
BEGIN:VTIMEZONE
TZID:Europe/Andorra
BEGIN:DAYLIGHT
TZOFFSETFROM:+0100
TZOFFSETTO:+0200
TZNAME:CEST
DTSTART:20180325T010000
END:DAYLIGHT
BEGIN:STANDARD
TZOFFSETFROM:+0200
TZOFFSETTO:+0100
TZNAME:CET
DTSTART:20181028T010000
END:STANDARD
END:VTIMEZONE
BEGIN:VEVENT
DTSTART;TZID=Europe/Andorra:20181106T190000
DTEND;TZID=Europe/Andorra:20181106T190000
DTSTAMP:20260422T173220
CREATED:20200729T173136Z
LAST-MODIFIED:20200729T190952Z
UID:11278-1541530800-1541530800@octubre.cat
SUMMARY:Presentació de poemaris de Vicent Olaso i Maria Rosa Sabater
DESCRIPTION:Dimarts 6 de novembre a les 19.00h i a la llibreria Fan Set. Amb els autors i Maria Josep Escrivà.	 \n  \n  \n\n 	 Presentació i recital:  Que tot plegat no semble mentida\, de Vicent Olaso i Hivern tancat\, de Maria Rosa Sabater i Soliva  Acompanyats per Maria Josep Escrivà  (Edicions 96)
URL:https://octubre.cat/activitat/presentacio-de-poemaris-de-vicent-olaso-i-maria-rosa-sabater/
LOCATION:Llibreria Fan Set
CATEGORIES:Literatura
ATTACH;FMTTYPE=image/jpeg:https://octubre.cat/www/wp-content/uploads/2020/07/activitat3143.jpg
END:VEVENT
END:VCALENDAR