BEGIN:VCALENDAR
VERSION:2.0
PRODID:-//Octubre Centre de Cultura Contemporània - ECPv5.1.6//NONSGML v1.0//EN
CALSCALE:GREGORIAN
METHOD:PUBLISH
X-WR-CALNAME:Octubre Centre de Cultura Contemporània
X-ORIGINAL-URL:https://octubre.cat
X-WR-CALDESC:Events for Octubre Centre de Cultura Contemporània
BEGIN:VTIMEZONE
TZID:Europe/Andorra
BEGIN:DAYLIGHT
TZOFFSETFROM:+0100
TZOFFSETTO:+0200
TZNAME:CEST
DTSTART:20180325T010000
END:DAYLIGHT
BEGIN:STANDARD
TZOFFSETFROM:+0200
TZOFFSETTO:+0100
TZNAME:CET
DTSTART:20181028T010000
END:STANDARD
END:VTIMEZONE
BEGIN:VEVENT
DTSTART;TZID=Europe/Andorra:20180611T190000
DTEND;TZID=Europe/Andorra:20180611T190000
DTSTAMP:20260421T222029
CREATED:20200729T173049Z
LAST-MODIFIED:20200729T190855Z
UID:11232-1528743600-1528743600@octubre.cat
SUMMARY:Presentació de poemaris de Josep Lluís Roig i Àngels Gregori
DESCRIPTION:Dilluns 11 de juny a les 19.00h a la llibreria Fan Set. Amb els autors acompanyats per Ramon Guillem.	 \n  \n  \n\n 	 Doble presentació poètica: La llum del curtcircuit (Bromera)\, de Josep Lluís Roig\, Premi Mallorca de Poesia 2017\, i Quan els grans arbres cauen (Bromera)\, d’Àngels Gregori\, Premi Vicent Andrés Estellés de Burjassot.  Amb els autors acompanyats per Ramon Guillem.
URL:https://octubre.cat/activitat/presentacio-de-poemaris-de-josep-lluis-roig-i-angels-gregori/
LOCATION:Llibreria Fan Set
CATEGORIES:Literatura
ATTACH;FMTTYPE=image/jpeg:https://octubre.cat/www/wp-content/uploads/2020/07/activitat3072.jpg
END:VEVENT
END:VCALENDAR