BEGIN:VCALENDAR
VERSION:2.0
PRODID:-//Octubre Centre de Cultura Contemporània - ECPv5.1.6//NONSGML v1.0//EN
CALSCALE:GREGORIAN
METHOD:PUBLISH
X-WR-CALNAME:Octubre Centre de Cultura Contemporània
X-ORIGINAL-URL:https://octubre.cat
X-WR-CALDESC:Events for Octubre Centre de Cultura Contemporània
BEGIN:VTIMEZONE
TZID:Europe/Andorra
BEGIN:DAYLIGHT
TZOFFSETFROM:+0100
TZOFFSETTO:+0200
TZNAME:CEST
DTSTART:20160327T010000
END:DAYLIGHT
BEGIN:STANDARD
TZOFFSETFROM:+0200
TZOFFSETTO:+0100
TZNAME:CET
DTSTART:20161030T010000
END:STANDARD
END:VTIMEZONE
BEGIN:VEVENT
DTSTART;TZID=Europe/Andorra:20160220T190000
DTEND;TZID=Europe/Andorra:20160220T190000
DTSTAMP:20260421T182335
CREATED:20200729T171615Z
LAST-MODIFIED:20200729T185409Z
UID:10512-1455994800-1455994800@octubre.cat
SUMMARY:Presentació de 'Piano a cuatro manos'\, de Conxa Rodríguez Vives
DESCRIPTION:Dissabte 20 de febrer a les 19.00h. Amb l’autora i Ximo Puig\, president de la Generalitat Valenciana.  \n  \n  \n\n (Ediciones Oblicuas)  La presentació anirà a càrrec de Ximo Puig\, president de la Generalitat Valenciana.  La novel·la parteix d’una fotografia reproduïda al seu interior. La imatge mostra dos pianos en la sala de la residència del general Ramon Cabrera\, en el bucòlic Wentworth\, comtat de Surrey (Anglaterra)\, on va transcórrer el seu exili polític. Qui tocava els pianos i què passava al seu voltant? Personatges i esdeveniments històrics i documentats fosos amb d’altres d’imaginaris i inexistents. Mentre dues dones fan sonar la música\, Cabrera\, capficat\, es passeja per la geografia de la guerra civil espanyola (1833-1840). De Tortosa a Morella i a les portes de Madrid passant per Andalusia i Navarra. El passat\, del qual no aconsegueix desfer-se’n\, el persegueix. El seu trànsit del carlisme al liberalisme sorprendrà a tothom.  Conxa Rodríguez Vives (Morella\, Els Ports\, 1958) és llicenciada en Ciències de la Informació per la Universitat Autònoma de Barcelona. Ha treballat en mitjans de comunicació com El País. Des de 1990 ha exercit de corresponsal a Londres per a l’Avui\, Público i emissores de ràdio. Ha publicat els llibres Ramon Cabrera\, a l’exili; La Fàbrica Giner de Morella; Los Thyssen\, por amor al arte i El Ángel de Picasso. A dia d’avui col·labora amb El Mundo i Unidad Editorial.
URL:https://octubre.cat/activitat/presentacio-de-piano-a-cuatro-manos-de-conxa-rodriguez-vives/
LOCATION:No definit
CATEGORIES:Literatura
ATTACH;FMTTYPE=image/jpeg:https://octubre.cat/www/wp-content/uploads/2020/07/activitat2502.jpg
END:VEVENT
END:VCALENDAR