BEGIN:VCALENDAR
VERSION:2.0
PRODID:-//Octubre Centre de Cultura Contemporània - ECPv5.1.6//NONSGML v1.0//EN
CALSCALE:GREGORIAN
METHOD:PUBLISH
X-WR-CALNAME:Octubre Centre de Cultura Contemporània
X-ORIGINAL-URL:https://octubre.cat
X-WR-CALDESC:Events for Octubre Centre de Cultura Contemporània
BEGIN:VTIMEZONE
TZID:Europe/Andorra
BEGIN:DAYLIGHT
TZOFFSETFROM:+0100
TZOFFSETTO:+0200
TZNAME:CEST
DTSTART:20140330T010000
END:DAYLIGHT
BEGIN:STANDARD
TZOFFSETFROM:+0200
TZOFFSETTO:+0100
TZNAME:CET
DTSTART:20141026T010000
END:STANDARD
END:VTIMEZONE
BEGIN:VEVENT
DTSTART;TZID=Europe/Andorra:20141128T190000
DTEND;TZID=Europe/Andorra:20141128T190000
DTSTAMP:20260421T111738
CREATED:20200729T170808Z
LAST-MODIFIED:20200730T041304Z
UID:9995-1417201200-1417201200@octubre.cat
SUMMARY:Presentació de 'Paraules d'Iniciativa'
DESCRIPTION:Divendres 28 de novembre a les 19.00h. Revista digital de pensament. La presentació anirà a càrrec de Gustau Muñoz\, Manuel Alcaraz i Cristina Mollà  \n  \n  \n\n Revista digital de pensament  Amb Gustau Muñoz\, Manuel Alcaraz i Cristina Mollà  Ací arriba Paraules d’Iniciativa. Revista digitals de pensaments d’Iniciativa. És a dir: un intent d’afavorir algunes reflexions sobre l’actualitat política\, però fetes amb l’ambició d’anar un poc més enllà del merament circumstancial. En aquest primer número\, el fil conductor és el “canvi”\, aquesta ocasió enyorada i perseguida per Iniciativa i Compromís per reajustar massa coses trencades en la democràcia\, la decència\, el medi ambient i el sentit de la justícia al País Valencià.
URL:https://octubre.cat/activitat/presentacio-de-paraules-diniciativa/
LOCATION:Aula 2
CATEGORIES:Literatura
ATTACH;FMTTYPE=image/jpeg:https://octubre.cat/www/wp-content/uploads/2020/07/activitat2197.jpg
END:VEVENT
END:VCALENDAR