BEGIN:VCALENDAR
VERSION:2.0
PRODID:-//Octubre Centre de Cultura Contemporània - ECPv5.1.6//NONSGML v1.0//EN
CALSCALE:GREGORIAN
METHOD:PUBLISH
X-WR-CALNAME:Octubre Centre de Cultura Contemporània
X-ORIGINAL-URL:https://octubre.cat
X-WR-CALDESC:Events for Octubre Centre de Cultura Contemporània
BEGIN:VTIMEZONE
TZID:Europe/Andorra
BEGIN:DAYLIGHT
TZOFFSETFROM:+0100
TZOFFSETTO:+0200
TZNAME:CEST
DTSTART:20160327T010000
END:DAYLIGHT
BEGIN:STANDARD
TZOFFSETFROM:+0200
TZOFFSETTO:+0100
TZNAME:CET
DTSTART:20161030T010000
END:STANDARD
END:VTIMEZONE
BEGIN:VEVENT
DTSTART;TZID=Europe/Andorra:20160525T190000
DTEND;TZID=Europe/Andorra:20160525T190000
DTSTAMP:20260421T151824
CREATED:20200729T171820Z
LAST-MODIFIED:20200729T185504Z
UID:10645-1464202800-1464202800@octubre.cat
SUMMARY:Presentació de 'No dispareu al meteoròleg'
DESCRIPTION:Dimecres 25 de maig a les 19.00h. A càrrec dels tres autors\, Victòria Rosselló\, Vicent Maria Gómez i Joan Carles Fortea.  \n  \n  \n\n A càrrec dels tres autors\, Victòria Rosselló\, Vicent Maria Gómez i Joan Carles Fortea (3×4 info).  Esta no és una novel·la negra ni s’hi narra cap assassinat. És un llibre que té a veure amb l’oratge. Com que està escrit en valencià\, s’hi parla molt del nostre territori\, però també d’altres parts del món. No és un llibre sobre models meteorològics de previsió\, però s’hi parla de la previsió del temps. No és un estudi sobre el nostre clima\, però n’hi parlem. No és un llibre d’història\, però s’hi conten algunes històries que varen passar fa desenes\, centenars o fins i tot milions d’anys. Estes històries tenen a veure\, de vegades amb el clima\, de vegades potser no. Tampoc no és un llibre sobre la televisió però\, com no podia ser d’altra manera\, també se n’hi parla un poc. No dispareu al meteoròleg és un llibre en el qual es parla un poc de moltes coses que\, això si\, tenen a veure amb l’oratge i amb la nostra terra.  Vicent Gomez és doctor en Física i Enginyer tècnic en Informàtica. A més de treballar en Canal 9\, ha sigut 22 anys professor associat en la Universitat de València.  Joan Carles Fortea és llicenciat en Física. Ha sigut professor associat al departament de Física de la Terra i Termodinàmica. Ha participat en projectes europeus d’investigació relacionats amb la teledetecció i l’atmosfera. Compartix la passió per la meteorologia amb l’afició per l’astronomia.  Victòria Rosselló és doctora en Física i diplomada en Egiptologia i investiga i ha publicat sobre qüestions d’història de la ciència i la meteorologia.  Els tres eren meteoròlegs de Canal 9 al seu tancament.
URL:https://octubre.cat/activitat/presentacio-de-no-dispareu-al-meteoroleg/
LOCATION:Llibreria 3i4
CATEGORIES:Literatura
ATTACH;FMTTYPE=image/jpeg:https://octubre.cat/www/wp-content/uploads/2020/07/activitat2572.jpg
END:VEVENT
END:VCALENDAR