BEGIN:VCALENDAR
VERSION:2.0
PRODID:-//Octubre Centre de Cultura Contemporània - ECPv5.1.6//NONSGML v1.0//EN
CALSCALE:GREGORIAN
METHOD:PUBLISH
X-WR-CALNAME:Octubre Centre de Cultura Contemporània
X-ORIGINAL-URL:https://octubre.cat
X-WR-CALDESC:Events for Octubre Centre de Cultura Contemporània
BEGIN:VTIMEZONE
TZID:Europe/Andorra
BEGIN:DAYLIGHT
TZOFFSETFROM:+0100
TZOFFSETTO:+0200
TZNAME:CEST
DTSTART:20140330T010000
END:DAYLIGHT
BEGIN:STANDARD
TZOFFSETFROM:+0200
TZOFFSETTO:+0100
TZNAME:CET
DTSTART:20141026T010000
END:STANDARD
END:VTIMEZONE
BEGIN:VEVENT
DTSTART;TZID=Europe/Andorra:20140117T193000
DTEND;TZID=Europe/Andorra:20140117T193000
DTSTAMP:20260422T063745
CREATED:20200729T170309Z
LAST-MODIFIED:20200729T184326Z
UID:9679-1389987000-1389987000@octubre.cat
SUMMARY:Presentació de llibres sobre gènere
DESCRIPTION:Divendres 17 de gener a les 19.30h: “Dibuixant el gènere”\, de Gerard Coll-Planas i Maria Vidal i “Transexualidades”\, de Miquel Missé  \n  \n  \n\n —Dibuixant el gènere. Textos de Gerard Coll-Planas. Il·lustracions de Maria Vidal. Pròleg de Teresa Forcades —Transexualidades. Otras miradas posibles\, de Miquel Missé  (Edicions 96)  Amb les intervencions de: –Rosa Sanchís (experta en educació sexual) –Fran Ferri (diputat de Compromís) i dels autors  Col·laboren: –Col·lectiu Lambda –Dones amb Compromís
URL:https://octubre.cat/activitat/presentacio-de-llibres-sobre-genere/
CATEGORIES:Literatura
ATTACH;FMTTYPE=image/jpeg:https://octubre.cat/www/wp-content/uploads/2020/07/activitat1971.jpg
END:VEVENT
END:VCALENDAR