BEGIN:VCALENDAR
VERSION:2.0
PRODID:-//Octubre Centre de Cultura Contemporània - ECPv5.1.6//NONSGML v1.0//EN
CALSCALE:GREGORIAN
METHOD:PUBLISH
X-WR-CALNAME:Octubre Centre de Cultura Contemporània
X-ORIGINAL-URL:https://octubre.cat
X-WR-CALDESC:Events for Octubre Centre de Cultura Contemporània
BEGIN:VTIMEZONE
TZID:Europe/Andorra
BEGIN:DAYLIGHT
TZOFFSETFROM:+0100
TZOFFSETTO:+0200
TZNAME:CEST
DTSTART:20190331T010000
END:DAYLIGHT
BEGIN:STANDARD
TZOFFSETFROM:+0200
TZOFFSETTO:+0100
TZNAME:CET
DTSTART:20191027T010000
END:STANDARD
END:VTIMEZONE
BEGIN:VEVENT
DTSTART;TZID=Europe/Andorra:20190724T190000
DTEND;TZID=Europe/Andorra:20190724T190000
DTSTAMP:20260423T053826
CREATED:20200729T173438Z
LAST-MODIFIED:20200729T191206Z
UID:11470-1563994800-1563994800@octubre.cat
SUMMARY:Presentació de llibres de la Fundació Nexe
DESCRIPTION:Dimecres 24 de juliol a les 19.00h. Amb Asensi Descalç\, Isabel Lozano\, Sónia Díaz i Vicent Ferrer.	 \n  \n  \n\n 	 Presentació de les dues últimes publicacions de la Fundació Nexe a la col·lecció Àgora: el número 4\, Sobre l’aplicació d’un impost turístic al País Valencià. Reflexions des de l’economia\, i el número 5\, Imposició patrimonial. El context espanyol i una proposta per al País Valencià. Ambdues publicacions estan escrites pel professor d’Economia Aplicada de la Universitat de València\, Asensi Descalç\, qui també és membre del Lab d’Economia de la Fundació Nexe.   L’acte de presentació comptarà amb la presència de l’autor i d’altres acompanyants que ajudaran a generar debat sobre els temes que s’exposen. Així\, hi participaran Isabel Lozano\, regidora a l’Ajuntament de València\, Sónia Diaz\, directora de l’Agència Tributària Valenciana\, i Vicent Ferrer\, vicepresident de la patronal hotelera HOSBEC.
URL:https://octubre.cat/activitat/presentacio-de-llibres-de-la-fundacio-nexe/
LOCATION:Terrat
CATEGORIES:Literatura
ATTACH;FMTTYPE=image/png:https://octubre.cat/www/wp-content/uploads/2020/07/activitat3315.png
END:VEVENT
END:VCALENDAR