BEGIN:VCALENDAR
VERSION:2.0
PRODID:-//Octubre Centre de Cultura Contemporània - ECPv5.1.6//NONSGML v1.0//EN
CALSCALE:GREGORIAN
METHOD:PUBLISH
X-WR-CALNAME:Octubre Centre de Cultura Contemporània
X-ORIGINAL-URL:https://octubre.cat
X-WR-CALDESC:Events for Octubre Centre de Cultura Contemporània
BEGIN:VTIMEZONE
TZID:Europe/Andorra
BEGIN:DAYLIGHT
TZOFFSETFROM:+0100
TZOFFSETTO:+0200
TZNAME:CEST
DTSTART:20080330T010000
END:DAYLIGHT
BEGIN:STANDARD
TZOFFSETFROM:+0200
TZOFFSETTO:+0100
TZNAME:CET
DTSTART:20081026T010000
END:STANDARD
END:VTIMEZONE
BEGIN:VEVENT
DTSTART;TZID=Europe/Andorra:20080526T193000
DTEND;TZID=Europe/Andorra:20080526T193000
DTSTAMP:20260420T215435
CREATED:20200729T181910Z
LAST-MODIFIED:20200730T035747Z
UID:12590-1211830200-1211830200@octubre.cat
SUMMARY:Presentació de llibres de Josep C. Conill
DESCRIPTION:Presentació dels llibres de Josep C. Conill:  –Submarins de butxaca Impertinències sobre la societat\, el llenguatge i els déus. Obra guanyadora del XXIV Premi d’Assaig Josep Vallverdú\, 2007 (Lleida\, Pagès Editors\, 2008) –Del conflicte lingüístic a l’autogestió. Materials per a una sociolingüística de la complexitat. Obra guanyadora del Premi de Sociolingüística 2005 (Barcelona\, Institut d’Estudis Catalans\, 2007)  La presentació anirà a càrrec de Guillem Calaforra\, escriptor; Ernest Querol (professor de sociolingüística de la UOC\, i Josep J. Conill\, autor.  Organitza: Pagès Editors.
URL:https://octubre.cat/activitat/presentacio-de-llibres-de-josep-c-conill/
LOCATION:No definit
CATEGORIES:Literatura
ATTACH;FMTTYPE=image/jpeg:https://octubre.cat/www/wp-content/uploads/2020/07/llibres1.jpg
END:VEVENT
END:VCALENDAR