BEGIN:VCALENDAR
VERSION:2.0
PRODID:-//Octubre Centre de Cultura Contemporània - ECPv5.1.6//NONSGML v1.0//EN
CALSCALE:GREGORIAN
METHOD:PUBLISH
X-WR-CALNAME:Octubre Centre de Cultura Contemporània
X-ORIGINAL-URL:https://octubre.cat
X-WR-CALDESC:Events for Octubre Centre de Cultura Contemporània
BEGIN:VTIMEZONE
TZID:Europe/Andorra
BEGIN:DAYLIGHT
TZOFFSETFROM:+0100
TZOFFSETTO:+0200
TZNAME:CEST
DTSTART:20210328T010000
END:DAYLIGHT
BEGIN:STANDARD
TZOFFSETFROM:+0200
TZOFFSETTO:+0100
TZNAME:CET
DTSTART:20211031T010000
END:STANDARD
END:VTIMEZONE
BEGIN:VEVENT
DTSTART;TZID=Europe/Andorra:20210630T190000
DTEND;TZID=Europe/Andorra:20210630T190000
DTSTAMP:20260422T222412
CREATED:20210611T154729Z
LAST-MODIFIED:20210617T145443Z
UID:16631-1625079600-1625079600@octubre.cat
SUMMARY:Presentació de llibres de Jesús Giron
DESCRIPTION:Amb l’autor acompanyat per l’escriptor Nel·lo Navarro \nEs presentaran els següents llibres: \n—El so de la flauta de jade (Bromera)\nPremi Festa d’Elx \n—Ma Chérie (Pont del Petroli)\nXIII Premi de Teatre Breu Andreu Solsona de Badalona \nJesús Giron Araque (Calles\, els Serrans\, 1956) és mestre de primària\, llicenciat en Geografia i Història i en Ciències de l’Educació i professor de valencià.\nHa publicat els poemaris Llibre de contemplació (Ed. Germania\, 2013)\, Inventari de fragilitats (Onada Edicions\, 2016)\, El bosc de bambú (Viena Editorial\, 2019\, presentat a l’Octubre CCC el febrer de 2020) i Hotel (Ajuntament de Mislata\, 2019). \nOferiré la meua amistat als crisantems\nperquè siguen condescendents amb el meu cos\nquan jaurà al laberint de Di Yu
URL:https://octubre.cat/activitat/presentacio-de-llibres-de-jesus-giron/
LOCATION:Llibreria Fan Set
CATEGORIES:Literatura
ATTACH;FMTTYPE=image/jpeg:https://octubre.cat/www/wp-content/uploads/2021/06/jesus-giron.jpg
END:VEVENT
END:VCALENDAR