BEGIN:VCALENDAR
VERSION:2.0
PRODID:-//Octubre Centre de Cultura Contemporània - ECPv5.1.6//NONSGML v1.0//EN
CALSCALE:GREGORIAN
METHOD:PUBLISH
X-WR-CALNAME:Octubre Centre de Cultura Contemporània
X-ORIGINAL-URL:https://octubre.cat
X-WR-CALDESC:Events for Octubre Centre de Cultura Contemporània
BEGIN:VTIMEZONE
TZID:Europe/Andorra
BEGIN:DAYLIGHT
TZOFFSETFROM:+0100
TZOFFSETTO:+0200
TZNAME:CEST
DTSTART:20190331T010000
END:DAYLIGHT
BEGIN:STANDARD
TZOFFSETFROM:+0200
TZOFFSETTO:+0100
TZNAME:CET
DTSTART:20191027T010000
END:STANDARD
END:VTIMEZONE
BEGIN:VEVENT
DTSTART;TZID=Europe/Andorra:20190729T190000
DTEND;TZID=Europe/Andorra:20190729T190000
DTSTAMP:20260423T071352
CREATED:20200729T173438Z
LAST-MODIFIED:20200729T191207Z
UID:11471-1564426800-1564426800@octubre.cat
SUMMARY:Presentació de llibres d’Ara Llibres
DESCRIPTION:Dilluns 29 de juliol a les 19.00h. Amb la presència de Gabriel Rufián\, Sergi Sol\, Guillem Agulló\, Maxi Calero i Pep Picas.	 \n  \n  \n\n 	 Es presentaran: —Oriol Junqueras. Fins que siguem lliures\, de Sergi Sol —Ser de izquierdas es ser el último de la fila (y saberlo)\, de Gabriel Rufián  Amb la presència de Gabriel Rufián\, Sergi Sol\, Guillem Agulló\, Maxi Calero i Pep Picas. Presentarà l’acte Josepa Costa.  (Ara Llibres)
URL:https://octubre.cat/activitat/presentacio-de-llibres-dara-llibres/
LOCATION:Sala d’actes
CATEGORIES:Literatura
ATTACH;FMTTYPE=image/jpeg:https://octubre.cat/www/wp-content/uploads/2020/07/activitat3316.jpg
END:VEVENT
END:VCALENDAR