BEGIN:VCALENDAR
VERSION:2.0
PRODID:-//Octubre Centre de Cultura Contemporània - ECPv5.1.6//NONSGML v1.0//EN
CALSCALE:GREGORIAN
METHOD:PUBLISH
X-WR-CALNAME:Octubre Centre de Cultura Contemporània
X-ORIGINAL-URL:https://octubre.cat
X-WR-CALDESC:Events for Octubre Centre de Cultura Contemporània
BEGIN:VTIMEZONE
TZID:Europe/Andorra
BEGIN:DAYLIGHT
TZOFFSETFROM:+0100
TZOFFSETTO:+0200
TZNAME:CEST
DTSTART:20160327T010000
END:DAYLIGHT
BEGIN:STANDARD
TZOFFSETFROM:+0200
TZOFFSETTO:+0100
TZNAME:CET
DTSTART:20161030T010000
END:STANDARD
END:VTIMEZONE
BEGIN:VEVENT
DTSTART;TZID=Europe/Andorra:20160616T190000
DTEND;TZID=Europe/Andorra:20160616T190000
DTSTAMP:20260421T165210
CREATED:20200729T171903Z
LAST-MODIFIED:20200729T185522Z
UID:10692-1466103600-1466103600@octubre.cat
SUMMARY:Presentació de 'lletra menuda'\, de Nora Albert
DESCRIPTION:Dijous 16 de juny\, a les 19.00h\, a la llibreria 3i4. Amb l’autora acompanyada per Begonya Pozo.  \n  \n  \n\n lletra menuda / scritto piccolo / small letters  Premi Ciutat d’Eivissa de Poesia 2014 Edició de l’Ajuntament d’Eivssa / Balàfia Postals.  La presentació anirà a càrrec de l’autora acompanyada per Begonya Pozo.
URL:https://octubre.cat/activitat/presentacio-de-lletra-menuda-de-nora-albert/
LOCATION:Llibreria 3i4
CATEGORIES:Literatura
ATTACH;FMTTYPE=image/jpeg:https://octubre.cat/www/wp-content/uploads/2020/07/activitat2597.jpg
END:VEVENT
END:VCALENDAR