BEGIN:VCALENDAR
VERSION:2.0
PRODID:-//Octubre Centre de Cultura Contemporània - ECPv5.1.6//NONSGML v1.0//EN
CALSCALE:GREGORIAN
METHOD:PUBLISH
X-WR-CALNAME:Octubre Centre de Cultura Contemporània
X-ORIGINAL-URL:https://octubre.cat
X-WR-CALDESC:Events for Octubre Centre de Cultura Contemporània
BEGIN:VTIMEZONE
TZID:Europe/Andorra
BEGIN:DAYLIGHT
TZOFFSETFROM:+0100
TZOFFSETTO:+0200
TZNAME:CEST
DTSTART:20160327T010000
END:DAYLIGHT
BEGIN:STANDARD
TZOFFSETFROM:+0200
TZOFFSETTO:+0100
TZNAME:CET
DTSTART:20161030T010000
END:STANDARD
END:VTIMEZONE
BEGIN:VEVENT
DTSTART;TZID=Europe/Andorra:20161026T190000
DTEND;TZID=Europe/Andorra:20161026T190000
DTSTAMP:20260421T072209
CREATED:20200729T172046Z
LAST-MODIFIED:20200729T185608Z
UID:10802-1477508400-1477508400@octubre.cat
SUMMARY:Presentació de 'L'Espill' i 'Caràcters'
DESCRIPTION:Dimecres 26 d’octubre a les 19.00h. Amb Maria Josep Escrivà\, Gustau Muñoz\, Begonya Pozo i Pau Viciano.  \n  \n  \n\n Publicacions de la Universitat de València (PUV)  L’una\, “fundada per Joan Fuster”\, l’altra “és una revista de llibres”: en les autodefinicions trobem part del que són i contenen (part: cada nou número es complementa i singularitza). Són les dues revistes de literatura i pensament que edita Publicacions de la Universitat de València i que ja se’ns han fet imprescindibles\, L’Espill i Caràcters.  Per presentar-ne els darrers números\, comptarem amb Maria Josep Escrivà\, Gustau Muñoz\, Begonya Pozo i Pau Viciano.
URL:https://octubre.cat/activitat/presentacio-de-lespill-i-caracters/
LOCATION:Llibreria 3i4
CATEGORIES:Literatura
ATTACH;FMTTYPE=image/jpeg:https://octubre.cat/www/wp-content/uploads/2020/07/activitat2654.jpg
END:VEVENT
END:VCALENDAR