BEGIN:VCALENDAR
VERSION:2.0
PRODID:-//Octubre Centre de Cultura Contemporània - ECPv5.1.6//NONSGML v1.0//EN
CALSCALE:GREGORIAN
METHOD:PUBLISH
X-WR-CALNAME:Octubre Centre de Cultura Contemporània
X-ORIGINAL-URL:https://octubre.cat
X-WR-CALDESC:Events for Octubre Centre de Cultura Contemporània
BEGIN:VTIMEZONE
TZID:Europe/Andorra
BEGIN:DAYLIGHT
TZOFFSETFROM:+0100
TZOFFSETTO:+0200
TZNAME:CEST
DTSTART:20090329T010000
END:DAYLIGHT
BEGIN:STANDARD
TZOFFSETFROM:+0200
TZOFFSETTO:+0100
TZNAME:CET
DTSTART:20091025T010000
END:STANDARD
END:VTIMEZONE
BEGIN:VEVENT
DTSTART;TZID=Europe/Andorra:20091007T190000
DTEND;TZID=Europe/Andorra:20091007T190000
DTSTAMP:20260420T142709
CREATED:20200729T182613Z
LAST-MODIFIED:20200729T182613Z
UID:12921-1254942000-1254942000@octubre.cat
SUMMARY:Presentació de l'Espai Illes Balears
DESCRIPTION:Dimecres 7 d’octubre\, a les 19.00h: Presentació del nou Espai Illes Balears al País Valencià. Amb la presència del conseller d’Educació i Cultura del Govern Balear\, Bartomeu Llinàs.   \n  \n  \n\nL’Espai Illes Balears a l’Octubre respon a la voluntat de comunicar i vertebrar les terres de parla catalana\, amb l’objectiu d’avançar en un camí comú. La pretensió és convertir-se en lloc de diàleg i d’intercanvi d’experiències culturals i socials\, un espai que facilite la difusió\, la producció i la interacció cultural\, tot cercant la modernització del país i l’eliminació de les barreres geogràfiques. Un espai per a la promoció de la nostra cultura\, des de la modernitat i el progrés.  Amb la intervenció de:  Sr. Bartomeu Llinàs\, conseller d’Educació i Cultura del Govern de les Illes Balears.  Sr. Eliseu Climent\, president d’Acció Cultural del País Valencià.   L’acte inclourà el recital “Tècnica mixta”\, un recull de poemes sobre maneres d’estimar\, cantats i musicats per la cantautora mallorquina Miquela Lladó\, que estarà acompanyada pels músics Toni Pastor (guitarra)\, Biel Fiol (violoncel) i Pep Lluís Garcia (percussió).   Hi haurà\, a més\, una degustació de productes de les Illes (sobrassada\, botifarrons\, formatge\, ametlles\, galetes\, olives\, vi\, herbes\, coques\, figues seques\, ensaïmades\, etc.)\, gràcies a la col·laboració de la Conselleria de Comerç i Indústria.
URL:https://octubre.cat/activitat/presentacio-de-lespai-illes-balears/
LOCATION:No definit
CATEGORIES:Espai Illes Balears
ATTACH;FMTTYPE=image/jpeg:https://octubre.cat/www/wp-content/uploads/2020/07/activitat954.jpg
END:VEVENT
END:VCALENDAR