BEGIN:VCALENDAR
VERSION:2.0
PRODID:-//Octubre Centre de Cultura Contemporània - ECPv5.1.6//NONSGML v1.0//EN
CALSCALE:GREGORIAN
METHOD:PUBLISH
X-WR-CALNAME:Octubre Centre de Cultura Contemporània
X-ORIGINAL-URL:https://octubre.cat
X-WR-CALDESC:Events for Octubre Centre de Cultura Contemporània
BEGIN:VTIMEZONE
TZID:Europe/Andorra
BEGIN:DAYLIGHT
TZOFFSETFROM:+0100
TZOFFSETTO:+0200
TZNAME:CEST
DTSTART:20160327T010000
END:DAYLIGHT
BEGIN:STANDARD
TZOFFSETFROM:+0200
TZOFFSETTO:+0100
TZNAME:CET
DTSTART:20161030T010000
END:STANDARD
END:VTIMEZONE
BEGIN:VEVENT
DTSTART;TZID=Europe/Andorra:20160204T190000
DTEND;TZID=Europe/Andorra:20160204T190000
DTSTAMP:20260421T181232
CREATED:20200729T171557Z
LAST-MODIFIED:20200729T185403Z
UID:10495-1454612400-1454612400@octubre.cat
SUMMARY:Presentació de 'Les veus i la boira'\, de Vicent Usó
DESCRIPTION:Dijous 4 de febrer a les 19.00h i a la llibreria 3i4  \n  \n  \n\n Premi Alfons el Magnànim de novel·la (Bromera)  El periodista Bernat Sequeral no imaginava que trobaria la mort per indagar per què el taüt de la mare era buit. Per això\, vint anys després\, la vídua s’oposa rotundament a la idea que el seu fill Mateu reprenga aquella investigació fatídica.  Però Mateu Sequeral ja ha pres la decisió. Per a desxifrar l’enigma que el pare va deixar pendent\, el jove s’endinsa en un perillós entramat d’històries d’amor\, assassinats\, secrets familiars\, contrabandistes\, estraperlistes i especuladors urbanístics. La Mallorca del boom turístic\, els Pirineus francesos\, la Peníscola dels anys 40-50… són alguns dels escenaris de la recerca. Però el veritable cor de la narració són les illes Columbretes. Cau de pirates\, llar de faroners i pàtria de contrabandistes\, aquest paratge natural únic contagia el seu encís a la novel·la.
URL:https://octubre.cat/activitat/presentacio-de-les-veus-i-la-boira-de-vicent-uso/
LOCATION:Llibreria 3i4
CATEGORIES:Literatura
ATTACH;FMTTYPE=image/jpeg:https://octubre.cat/www/wp-content/uploads/2020/07/activitat2495.jpg
END:VEVENT
END:VCALENDAR