BEGIN:VCALENDAR
VERSION:2.0
PRODID:-//Octubre Centre de Cultura Contemporània - ECPv5.1.6//NONSGML v1.0//EN
CALSCALE:GREGORIAN
METHOD:PUBLISH
X-WR-CALNAME:Octubre Centre de Cultura Contemporània
X-ORIGINAL-URL:https://octubre.cat
X-WR-CALDESC:Events for Octubre Centre de Cultura Contemporània
BEGIN:VTIMEZONE
TZID:Europe/Andorra
BEGIN:DAYLIGHT
TZOFFSETFROM:+0100
TZOFFSETTO:+0200
TZNAME:CEST
DTSTART:20100328T010000
END:DAYLIGHT
BEGIN:STANDARD
TZOFFSETFROM:+0200
TZOFFSETTO:+0100
TZNAME:CET
DTSTART:20101031T010000
END:STANDARD
END:VTIMEZONE
BEGIN:VEVENT
DTSTART;TZID=Europe/Andorra:20100422T193000
DTEND;TZID=Europe/Andorra:20100422T193000
DTSTAMP:20260420T175430
CREATED:20200729T164901Z
LAST-MODIFIED:20200729T182926Z
UID:8821-1271964600-1271964600@octubre.cat
SUMMARY:Presentació de les novetats editorials de 3i4
DESCRIPTION:Dijous 22 d’abril\, a les 19.30h: Presentació de les obres guanyadores de la darrera edició dels Premis Octubre i de les novetats editorials de 3i4\, amb diversos autors.   \n  \n  \n\nL’Editorial 3i4 se suma\, un any més\, a la celebració del Dia Internacional del Llibre i ho fa amb la presentació de les obres guanyadores de la darrera edició dels Premis Octubre i de les novetats que veuen la llum amb motiu de la Diada de Sant Jordi.   A l’acte\, que tindrà lloc al hall de l’Octubre CCC\, participaran alguns autors de les esmentades obre\, com ara Rafael Escobar\, Manuel Molins\, Rafa Gomar i Vicent Sanchis\, tot amenitzat per música jazz en directe.   També se servirà un vi d’honor.  Hi esteu convidats!
URL:https://octubre.cat/activitat/presentacio-de-les-novetats-editorials-de-3i4/
LOCATION:No definit
CATEGORIES:Literatura
ATTACH;FMTTYPE=image/jpeg:https://octubre.cat/www/wp-content/uploads/2020/07/activitat1170.jpg
END:VEVENT
END:VCALENDAR