BEGIN:VCALENDAR
VERSION:2.0
PRODID:-//Octubre Centre de Cultura Contemporània - ECPv5.1.6//NONSGML v1.0//EN
CALSCALE:GREGORIAN
METHOD:PUBLISH
X-WR-CALNAME:Octubre Centre de Cultura Contemporània
X-ORIGINAL-URL:https://octubre.cat
X-WR-CALDESC:Events for Octubre Centre de Cultura Contemporània
BEGIN:VTIMEZONE
TZID:Europe/Andorra
BEGIN:DAYLIGHT
TZOFFSETFROM:+0100
TZOFFSETTO:+0200
TZNAME:CEST
DTSTART:20220327T010000
END:DAYLIGHT
BEGIN:STANDARD
TZOFFSETFROM:+0200
TZOFFSETTO:+0100
TZNAME:CET
DTSTART:20221030T010000
END:STANDARD
END:VTIMEZONE
BEGIN:VEVENT
DTSTART;TZID=Europe/Andorra:20221108T190000
DTEND;TZID=Europe/Andorra:20221108T190000
DTSTAMP:20260421T010528
CREATED:20220929T150107Z
LAST-MODIFIED:20250629T101933Z
UID:18789-1667934000-1667934000@octubre.cat
SUMMARY:Presentació de Les mutacions socials de la COVID-19 (informe de l'Institut d'Estudis Catalans)
DESCRIPTION:Les mutacions socials de la COVID-19: Informe de l’Institut d’Estudis Catalans / Elaborat per la Secció de Filosofia i Ciències Socials; a cura d’Andreu Domingo i Mercè Barceló \n–Presentació: Jaume Guillamet\, president de la Secció de Filosofia i Ciències Socials de l’IEC; Josepa Cucó\, Vice-presidenta.\n–Intervinents (autors): Andreu Domingo\, codirector del llibre; Josep Vicent Boira i Albert Moncusí\, coautors. \nEl llibre que us presentem és el resultat final del projecte de recerca titulat «Impacte social de la covid-19. Una mirada multidisciplinària» (Barcelona: SFCS\, IEC)\, coordinat per Andreu Domingo i Valls i Mercè Barceló i Serramalera\, elaborat en el si de la Secció de Filosofia i Ciències Socials de l’Institut d’Estudis Catalans\, i patrocinat per aquesta institució. \nAra\, complementàriament\, es vol oferir una versió de caràcter divulgatiu\, més breu\, per tal de poder arribar a tot tipus de lector. Es mantenen\, però\, les dues notes que revaloritzen aquesta obra col·lectiva: la mirada multidisciplinària sobre un mateix objecte\, i el prendre com a punt de referència els territoris de parla catalana. \n  \n \n(Institut d’Estudis Catalans)
URL:https://octubre.cat/activitat/presentacio-de-les-mutacions-socials-de-la-covid-19-informe-de-linstitut-destudis-catalans/
LOCATION:Aula 1
CATEGORIES:Espai Ciència
ATTACH;FMTTYPE=image/jpeg:https://octubre.cat/www/wp-content/uploads/2022/09/covid-ice-cap.jpg
END:VEVENT
END:VCALENDAR