BEGIN:VCALENDAR
VERSION:2.0
PRODID:-//Octubre Centre de Cultura Contemporània - ECPv5.1.6//NONSGML v1.0//EN
CALSCALE:GREGORIAN
METHOD:PUBLISH
X-WR-CALNAME:Octubre Centre de Cultura Contemporània
X-ORIGINAL-URL:https://octubre.cat
X-WR-CALDESC:Events for Octubre Centre de Cultura Contemporània
BEGIN:VTIMEZONE
TZID:Europe/Andorra
BEGIN:DAYLIGHT
TZOFFSETFROM:+0100
TZOFFSETTO:+0200
TZNAME:CEST
DTSTART:20150329T010000
END:DAYLIGHT
BEGIN:STANDARD
TZOFFSETFROM:+0200
TZOFFSETTO:+0100
TZNAME:CET
DTSTART:20151025T010000
END:STANDARD
END:VTIMEZONE
BEGIN:VEVENT
DTSTART;TZID=Europe/Andorra:20150213T190000
DTEND;TZID=Europe/Andorra:20150213T190000
DTSTAMP:20260422T000458
CREATED:20200729T170853Z
LAST-MODIFIED:20200730T041338Z
UID:10042-1423854000-1423854000@octubre.cat
SUMMARY:Presentació de 'Les dones no som (tan) complicades'\, de Lucrècia de Borja
DESCRIPTION:Divendres 13 de febrer a les 19.00h. A la llibreria 3i4  \n  \n  \n\n (Llibres de la Drassana)  Lucrècia de Borja i Bairén no és una dona (tan) complicada: li agraden els penis i alguns hòmens també. Per això\, mentre busca una parella que estimar i amb la qual compartir la seua vida\, el sexe se li fa present per tot arreu: ciberamants\, follamics\, admiradors\, noviets\, encontres ocasionals…
URL:https://octubre.cat/activitat/presentacio-de-les-dones-no-som-tan-complicades-de-lucrecia-de-borja/
LOCATION:Llibreria 3i4
CATEGORIES:Literatura
ATTACH;FMTTYPE=image/jpeg:https://octubre.cat/www/wp-content/uploads/2020/07/activitat2241.jpg
END:VEVENT
END:VCALENDAR