BEGIN:VCALENDAR
VERSION:2.0
PRODID:-//Octubre Centre de Cultura Contemporània - ECPv5.1.6//NONSGML v1.0//EN
CALSCALE:GREGORIAN
METHOD:PUBLISH
X-WR-CALNAME:Octubre Centre de Cultura Contemporània
X-ORIGINAL-URL:https://octubre.cat
X-WR-CALDESC:Events for Octubre Centre de Cultura Contemporània
BEGIN:VTIMEZONE
TZID:Europe/Andorra
BEGIN:DAYLIGHT
TZOFFSETFROM:+0100
TZOFFSETTO:+0200
TZNAME:CEST
DTSTART:20160327T010000
END:DAYLIGHT
BEGIN:STANDARD
TZOFFSETFROM:+0200
TZOFFSETTO:+0100
TZNAME:CET
DTSTART:20161030T010000
END:STANDARD
END:VTIMEZONE
BEGIN:VEVENT
DTSTART;TZID=Europe/Andorra:20160512T190000
DTEND;TZID=Europe/Andorra:20160512T190000
DTSTAMP:20260421T195255
CREATED:20200729T171817Z
LAST-MODIFIED:20200729T185501Z
UID:10642-1463079600-1463079600@octubre.cat
SUMMARY:Presentació de les darreres novetas de Manuel Molins
DESCRIPTION:Dijous 12 de maig a les 19.00h. Presentació dels seus darrers llibres Bagdad (dones al jardí) i Deus\, dies i treballs\, a càrrec de Núria Cadenes  \n  \n  \n\n Presentació dels llibres Bagdad (dones al jardí) (Arola Ed.) i Deus\, dies i treballs (Bromera)\, de Manuel Molins\, a càrrec de Núria Cadenes.   Manuel Molins i Casaña (Alfara del Patriarca\, Horta Nord\, 1946)\, és dramaturg i professor.  És fundador del Grup 49 de teatre amb el qual participa en el moviment de Teatre Independent\, que en la dècada de 1970 es proposa recuperar la llengua i cultura pròpies del País Valencià.  Autor prolífic\, la seva producció teatral presenta una gran diversitat formal\, amb temàtiques i intencionalitats molt variades. Ha publicat una trentena d’obres amb títols com ara Dansa del vetlatori (1978)\, Quatre històries d’amor per a la reina Germana (1981)\, Ni tan alts ni tan rics (1989)\, Trilogia d’Exilis (1999)\, Abú Magrib (2002)\, La Divina Tramoia (2002)\, Elisa (2003)\, Combat (l’última cinta de Maria Callas) (2006)\, Monopatins (Skaters) (2007)\, Dones\, dones\, dones (2009)\, Els valents de Valor (2010) i València\, Hollywood\, Iturbi (2012)\, entre d’altres\, i en té encara unes quantes més d’inèdites.  La seva trajectòria ha estat reconeguda amb nombrosos premis\, com el Premi de la Crítica de teatre de l’Institut Interuniversitari de Filologia Valenciana\, el Premi Octubre de teatre\, el Premi de la Crítica dels Escriptors Valencians en vuit ocasions i el Premi Ciutat de València en dues ocasions. El 2008 la seva obra és objecte d’estudi del I Simposi Internacional d’Arts Escèniques de la Universitat d’Alacant.
URL:https://octubre.cat/activitat/presentacio-de-les-darreres-novetas-de-manuel-molins/
LOCATION:Llibreria 3i4
CATEGORIES:Literatura
ATTACH;FMTTYPE=image/jpeg:https://octubre.cat/www/wp-content/uploads/2020/07/activitat2569.jpg
END:VEVENT
END:VCALENDAR