BEGIN:VCALENDAR
VERSION:2.0
PRODID:-//Octubre Centre de Cultura Contemporània - ECPv5.1.6//NONSGML v1.0//EN
CALSCALE:GREGORIAN
METHOD:PUBLISH
X-WR-CALNAME:Octubre Centre de Cultura Contemporània
X-ORIGINAL-URL:https://octubre.cat
X-WR-CALDESC:Events for Octubre Centre de Cultura Contemporània
BEGIN:VTIMEZONE
TZID:Europe/Andorra
BEGIN:DAYLIGHT
TZOFFSETFROM:+0100
TZOFFSETTO:+0200
TZNAME:CEST
DTSTART:20140330T010000
END:DAYLIGHT
BEGIN:STANDARD
TZOFFSETFROM:+0200
TZOFFSETTO:+0100
TZNAME:CET
DTSTART:20141026T010000
END:STANDARD
END:VTIMEZONE
BEGIN:VEVENT
DTSTART;TZID=Europe/Andorra:20140210T183000
DTEND;TZID=Europe/Andorra:20140210T183000
DTSTAMP:20260421T223520
CREATED:20200729T170334Z
LAST-MODIFIED:20200729T184348Z
UID:9703-1392057000-1392057000@octubre.cat
SUMMARY:Presentació de les beques Jaume Casademont
DESCRIPTION:Dilluns 10 de febrer a les 18.30h\, Presentació de les beques de la Fundació Casademont de Girona a la comunitat educativa i cultural  \n  \n  \n\n La Fundació Jaume Casademont és una fundació privada de Girona que convoca des de fa set anys les beques Jaume Casademont\, destinades a impulsar nous projectes en llengua catalana en els camps de la salut\, la cultura i els joves.  Aquestes beques són obertes a qualsevol persona física o jurídica\, publica o privada de Catalunya\, País Valencià\, Illes Balears\, Andorra\, etc… en qualsevol zona de parla catalana  Les beques estan dotades entre 1.500 i 5.000 euros segons la categoria.  Estan dirigides sobretot al col·lectiu educatiu i cultural.  Les quatre categories actuals són: –Beques Educar Menjant: per a projectes educatius en hàbits alimentaris entre els joves –Beques Actívica: per a projectes que fomentin l’activitat física com a hàbit saludable –Beca Cultura Popular: per a projectes que impulsin nous aspectes o espectacles de cultura popular –Beca Joves10: per a projectes de joves de batxillerat o FP basats en la cultura de l’esforç  En la trobada del dia 10 de febrer volem presentar les beques al col·lectiu educatiu i cultural del País Valencià per animar-los a presentar projectes a les nostres beques.  Assistència per inscripció prèvia a través del correu pepa@octubre.cat
URL:https://octubre.cat/activitat/presentacio-de-les-beques-jaume-casademont/
CATEGORIES:Literatura
ATTACH;FMTTYPE=image/gif:https://octubre.cat/www/wp-content/uploads/2020/07/activitat1995.gif
END:VEVENT
END:VCALENDAR