BEGIN:VCALENDAR
VERSION:2.0
PRODID:-//Octubre Centre de Cultura Contemporània - ECPv5.1.6//NONSGML v1.0//EN
CALSCALE:GREGORIAN
METHOD:PUBLISH
X-WR-CALNAME:Octubre Centre de Cultura Contemporània
X-ORIGINAL-URL:https://octubre.cat
X-WR-CALDESC:Events for Octubre Centre de Cultura Contemporània
BEGIN:VTIMEZONE
TZID:Europe/Andorra
BEGIN:DAYLIGHT
TZOFFSETFROM:+0100
TZOFFSETTO:+0200
TZNAME:CEST
DTSTART:20160327T010000
END:DAYLIGHT
BEGIN:STANDARD
TZOFFSETFROM:+0200
TZOFFSETTO:+0100
TZNAME:CET
DTSTART:20161030T010000
END:STANDARD
END:VTIMEZONE
BEGIN:VEVENT
DTSTART;TZID=Europe/Andorra:20160322T190000
DTEND;TZID=Europe/Andorra:20160322T190000
DTSTAMP:20260421T153019
CREATED:20200729T171711Z
LAST-MODIFIED:20200729T185433Z
UID:10573-1458673200-1458673200@octubre.cat
SUMMARY:Presentació de 'L'amor fora de mapa'
DESCRIPTION:Dimarts 22 de març a les 19.00h. Llibre de Roc Casagran i música de Borja Penalba i Mireia Vives  \n  \n  \n\n Literatura i música  L’amor fora de mapa   El llibre\, de Roc Casagran (Sembra Llibres)   El disc\, de Mireia Vives i Borja Penalba (Mésdemil)
URL:https://octubre.cat/activitat/presentacio-de-lamor-fora-de-mapa/
LOCATION:Hall
CATEGORIES:Literatura
ATTACH;FMTTYPE=image/png:https://octubre.cat/www/wp-content/uploads/2020/07/activitat2535.png
END:VEVENT
END:VCALENDAR