BEGIN:VCALENDAR
VERSION:2.0
PRODID:-//Octubre Centre de Cultura Contemporània - ECPv5.1.6//NONSGML v1.0//EN
CALSCALE:GREGORIAN
METHOD:PUBLISH
X-WR-CALNAME:Octubre Centre de Cultura Contemporània
X-ORIGINAL-URL:https://octubre.cat
X-WR-CALDESC:Events for Octubre Centre de Cultura Contemporània
BEGIN:VTIMEZONE
TZID:Europe/Andorra
BEGIN:DAYLIGHT
TZOFFSETFROM:+0100
TZOFFSETTO:+0200
TZNAME:CEST
DTSTART:20080330T010000
END:DAYLIGHT
BEGIN:STANDARD
TZOFFSETFROM:+0200
TZOFFSETTO:+0100
TZNAME:CET
DTSTART:20081026T010000
END:STANDARD
END:VTIMEZONE
BEGIN:VEVENT
DTSTART;TZID=Europe/Andorra:20081204T193000
DTEND;TZID=Europe/Andorra:20081204T193000
DTSTAMP:20260420T232937
CREATED:20200730T035908Z
LAST-MODIFIED:20200730T035908Z
UID:14040-1228419000-1228419000@octubre.cat
SUMMARY:Presentació de l’agenda del Col·lectiu Obertament
DESCRIPTION:Dijous 4 de desembre\, a les 19.30h: Presentació de l’Agenda-Guia “La casa que ens habita”  \n  \n  \n\nAgenda Guia 2009: “La casa que ens habita”  La presentació anirà a càrrec de Vicent Martínez (Punt Mobles)\, Sergi Prat (president del Col·lectiu Obertament) i Josep Carles Català (vicepresident)  L’Agenda Guia 2009 “La casa que ens habita” és alhora un viatge exterior i interior per les alqueries de la comarca de La Safor\, una evocació de la casa del passat i de la casa viscuda\, però també de la casa inventada i de la casa somniada. Les imatges del viatge exterior amb les reflexions del viatge interior són el suggeriment que proposa aquesta Agenda Guia perquè t’acompanyen al llarg dels dies que vindran.  Entre moltes altres\, hi figuren alqueries de Gandia com la Torre dels Pares\, la de Rausell\, el Trinquet\, el Gall\, la de les Boles\, etc. i també d’altres poblacions de la Safor com la Servana (Xeresa)\, la Casa del Pator (Benifairó de Valldigna)\, la Casa de l’Alfàs (Ador)\, etc.   El Col·lectiu Obertament és\, tal vegada\, una de les poques associacions que es composa únicament per persones afectades per malaltia mental greu i que utilitza diferents expressions artístiques com una forma de comunicació i acció social. Naix al si del Taller de Creativitat i Rehabilitació de l’Àrea 12 de Salut Mental a Gandia amb l’objectiu que les persones que han estat diagnosticades amb algun tipus de problemàtica mental prenguen la paraula. Alhora\, es preten afavorir espais d’integració real\, una integració que ajude a la construcció d’una nova identitat fora de la noció de malalt. La creació per mitjà de l’activitat artística\, contribueix a aquest procés de recuperació amb la generació d’un nou rol\, en aquest cas fotògrafs\, dissenyadors\, ceramistes o redactors.  El projecte de fer realitat un col·lectiu de creadors i creadores comença amb l’exposició fotogràfica\, l’any 2003\, a la Casa de la Cultura de Gandia\, titulada “i tu què mires…?”   Al 2005: -Edició i publicació del llibre de fotografies i poemes titulat “Sentiments” una mirada a través de la Imatge i la Paraula.   Al  2006:  – Edició de L’ Agenda-Guia de La Safor-2007 amb imatges que il·lustren la riquesa paisatgística i mediambiental de la comarca\, com també el disseny de quatre rutes cicloturístiques  coordinades pel geògraf Paco Tortosa. I un mapa imaginari on nombrem el que ens cal per viatjar per la vida. – Exposició fotogràfica “Dones que donen” a la nova Casa de Cultura de Rafelcolfer.  Al 2007:  – Disseny i construcció d’un mural de ceràmica  per al C.E.E.M. de Xeraco.   – l’Agenda-Guia de La Safor-2008 en la qual cada municipi ens mostra la seua història\, els seus racons o monuments més emblemàtics o desconeguts. Els textos i les cites històriques han estat revisats per l’historiador i escriptor Ferran Garcia-Oliver .
URL:https://octubre.cat/activitat/presentacio-de-lagenda-del-collectiu-obertament/
LOCATION:No definit
CATEGORIES:Literatura
ATTACH;FMTTYPE=image/jpeg:https://octubre.cat/www/wp-content/uploads/2020/07/activitat719.jpg
END:VEVENT
END:VCALENDAR