BEGIN:VCALENDAR
VERSION:2.0
PRODID:-//Octubre Centre de Cultura Contemporània - ECPv5.1.6//NONSGML v1.0//EN
CALSCALE:GREGORIAN
METHOD:PUBLISH
X-WR-CALNAME:Octubre Centre de Cultura Contemporània
X-ORIGINAL-URL:https://octubre.cat
X-WR-CALDESC:Events for Octubre Centre de Cultura Contemporània
BEGIN:VTIMEZONE
TZID:Europe/Andorra
BEGIN:DAYLIGHT
TZOFFSETFROM:+0100
TZOFFSETTO:+0200
TZNAME:CEST
DTSTART:20180325T010000
END:DAYLIGHT
BEGIN:STANDARD
TZOFFSETFROM:+0200
TZOFFSETTO:+0100
TZNAME:CET
DTSTART:20181028T010000
END:STANDARD
END:VTIMEZONE
BEGIN:VEVENT
DTSTART;TZID=Europe/Andorra:20181211T190000
DTEND;TZID=Europe/Andorra:20181211T190000
DTSTAMP:20260421T150029
CREATED:20200729T173234Z
LAST-MODIFIED:20200729T191021Z
UID:11339-1544554800-1544554800@octubre.cat
SUMMARY:Presentació de l'agenda "Amb mirada lila"
DESCRIPTION:Dimarts 11 de desembre a les 19.00h a la llibreria Fan Set.	 \n  \n  \n\n 	 Amb Paqui Méndez\, Patricia Campos\, Teresa Yeves\, Ana López Navajas (incloses a l’agenda)\, Carla Albelda (coordinadora) i Dolors Pedrós (editora).  (Edicions 96)
URL:https://octubre.cat/activitat/presentacio-de-lagenda-amb-mirada-lila/
LOCATION:Llibreria Fan Set
CATEGORIES:Literatura
ATTACH;FMTTYPE=image/jpeg:https://octubre.cat/www/wp-content/uploads/2020/07/activitat3184.jpg
END:VEVENT
END:VCALENDAR