BEGIN:VCALENDAR
VERSION:2.0
PRODID:-//Octubre Centre de Cultura Contemporània - ECPv5.1.6//NONSGML v1.0//EN
CALSCALE:GREGORIAN
METHOD:PUBLISH
X-WR-CALNAME:Octubre Centre de Cultura Contemporània
X-ORIGINAL-URL:https://octubre.cat
X-WR-CALDESC:Events for Octubre Centre de Cultura Contemporània
BEGIN:VTIMEZONE
TZID:Europe/Andorra
BEGIN:DAYLIGHT
TZOFFSETFROM:+0100
TZOFFSETTO:+0200
TZNAME:CEST
DTSTART:20160327T010000
END:DAYLIGHT
BEGIN:STANDARD
TZOFFSETFROM:+0200
TZOFFSETTO:+0100
TZNAME:CET
DTSTART:20161030T010000
END:STANDARD
END:VTIMEZONE
BEGIN:VEVENT
DTSTART;TZID=Europe/Andorra:20160420T190000
DTEND;TZID=Europe/Andorra:20160420T190000
DTSTAMP:20260421T153858
CREATED:20200729T171808Z
LAST-MODIFIED:20200729T185457Z
UID:10632-1461178800-1461178800@octubre.cat
SUMMARY:Presentació de l'acord d'agermanament entre ANC\, ASM i PDaD
DESCRIPTION:Dimecres 20 d’abril a les 19.00h. Amb Toni Infante\, Cristòfol Soler i Jordi Sánchez.  \n  \n  \n\n La Plataforma pel Dret a Decidir del País Valencià (PDaD) presentarà l’Acord d’Agermanament signat amb a l’Assemblea Sobiranista de Mallorca (ASM) i l’Assemblea Nacional Catalana (ANC).  L’acord de col·laboració al que arribaren després d’una exitosa reunió entre les tres entitats el passat dilluns 4 d’abril a la seu de l’ANC a Barcelona\, es farà públic i presentat per el coordinador de la PDAD\, Toni Infante\, i els presidents de l’ASM i l’ANC\, Cristòfol Soler i Jordi Sánchez. Les tres entitats han anat elevant el grau de col·laboració i coincidència entre elles\, així con la participació en les respectives activitats\, especialment en les diades més significatives.
URL:https://octubre.cat/activitat/presentacio-de-lacord-dagermanament-entre-anc-asm-i-pdad/
CATEGORIES:Conferències i congressos
ATTACH;FMTTYPE=image/jpeg:https://octubre.cat/www/wp-content/uploads/2020/07/activitat2564.jpg
END:VEVENT
END:VCALENDAR