BEGIN:VCALENDAR
VERSION:2.0
PRODID:-//Octubre Centre de Cultura Contemporània - ECPv5.1.6//NONSGML v1.0//EN
CALSCALE:GREGORIAN
METHOD:PUBLISH
X-WR-CALNAME:Octubre Centre de Cultura Contemporània
X-ORIGINAL-URL:https://octubre.cat
X-WR-CALDESC:Events for Octubre Centre de Cultura Contemporània
BEGIN:VTIMEZONE
TZID:Europe/Andorra
BEGIN:DAYLIGHT
TZOFFSETFROM:+0100
TZOFFSETTO:+0200
TZNAME:CEST
DTSTART:20150329T010000
END:DAYLIGHT
BEGIN:STANDARD
TZOFFSETFROM:+0200
TZOFFSETTO:+0100
TZNAME:CET
DTSTART:20151025T010000
END:STANDARD
END:VTIMEZONE
BEGIN:VEVENT
DTSTART;TZID=Europe/Andorra:20150130T173000
DTEND;TZID=Europe/Andorra:20150130T173000
DTSTAMP:20260422T044449
CREATED:20200729T170904Z
LAST-MODIFIED:20200730T041347Z
UID:10053-1422639000-1422639000@octubre.cat
SUMMARY:Presentació de 'La seducción de la mirada'\, de Rafael Acosta
DESCRIPTION:Divendres 30 de gener a les 17.30h. Presentació del llibre de fotografia La seducción de la mirada. Fotografía del cuerpo en Cuba (1940-2013)\, de Rafael Acosta de Arriba\, a càrrec de l’autor  \n  \n  \n\n Presentació del llibre de fotografia La seducción de la mirada. Fotografía del cuerpo en Cuba (1940-2013)\, Ed. Polymita\, Premio Nacional de Investigaciones 2012 del Ministeri de Cultura de Cuba\, de Rafael Acosta de Arriba. A càrrec de l’autor.  Un assaig sobre el nu en la història de la fotografia cubana des de finals del segle XIX fins als nostres dies.  L’obra (378 pàgines i més de 400 il·lustracions) inclou un assaig històric de més de 100 pàgines. Està publicada per Edicions Polymita de La Havana i impresa a Beniparrell (l’Horta) per Selvi Artes Gráficas. Inclou també una presentació a càrrec de Moraima Clavijo\, historiadora de l’art i exdirectora del Museo Nacional de Bellas Artes de Cuba.  La seducció de la mirada reprodueix obres dels grans fotògrafs de Cuba\, des de Joaquín Blez (1866-1974) a Cirenaica Moreira (1969)\, passant per la generació de final de segle de la fotografia artística del nu -tant femení com masculí-\, com és el cas de Juan Carlos Alom (autor de la portada del llibre)\, Abigail González\, René Peña i Marta-María Pérez Bravo. També està inclosa la generació més jove: Yamila Lomba\, Yanahara Mauri\, Daylene Rodriguez\, etc.  Rafael Acosta de Arriba (La Havana\, 1953) és assagista i poeta. Entre altres càrrecs ha estat president del Consejo Nacional de las Artes Plásticas del Ministerio de Cultura de Cuba i va dirigir el Centro de Información Cinematográfica del Instituto Cubano del Arte e Industria Cinematográficos. És col·laborador de les revistes Arte Cubano\, La Gaceta de Cuba i Revolución y Cultura\, i autor de llibres com El signo y la letra (2001)\, Caminos de la mirada (2007)\, Los signos mutantes del laberinto (2010)\, La espiral de la imagen (2012)\, etc.
URL:https://octubre.cat/activitat/presentacio-de-la-seduccion-de-la-mirada-de-rafael-acosta/
LOCATION:Llibreria 3i4
CATEGORIES:Literatura
ATTACH;FMTTYPE=image/jpeg:https://octubre.cat/www/wp-content/uploads/2020/07/activitat2253.jpg
END:VEVENT
END:VCALENDAR