BEGIN:VCALENDAR
VERSION:2.0
PRODID:-//Octubre Centre de Cultura Contemporània - ECPv5.1.6//NONSGML v1.0//EN
CALSCALE:GREGORIAN
METHOD:PUBLISH
X-WR-CALNAME:Octubre Centre de Cultura Contemporània
X-ORIGINAL-URL:https://octubre.cat
X-WR-CALDESC:Events for Octubre Centre de Cultura Contemporània
BEGIN:VTIMEZONE
TZID:Europe/Andorra
BEGIN:DAYLIGHT
TZOFFSETFROM:+0100
TZOFFSETTO:+0200
TZNAME:CEST
DTSTART:20160327T010000
END:DAYLIGHT
BEGIN:STANDARD
TZOFFSETFROM:+0200
TZOFFSETTO:+0100
TZNAME:CET
DTSTART:20161030T010000
END:STANDARD
END:VTIMEZONE
BEGIN:VEVENT
DTSTART;TZID=Europe/Andorra:20161027T190000
DTEND;TZID=Europe/Andorra:20161027T190000
DTSTAMP:20260421T054550
CREATED:20200729T172046Z
LAST-MODIFIED:20200729T185609Z
UID:10803-1477594800-1477594800@octubre.cat
SUMMARY:Presentació de 'La Sed'\, de Paula Bonet
DESCRIPTION:Dijous 27 d’octubre a les 19.00h\, a la llibreria Fan Set. Amb l’autora\, acompanyada per Soledad Vélez i Javier Ortega.  \n  \n  \n\n L’autora estarà acompanyada per Soledad Vélez (cantant) i Javier Ortega (director editorial de Lunwerg)  La Sed és un sisme\, una pertorbació\, l’origen de la llum.  Dues veus enfrontades al cicle de maduresa\, al començament del lent procés de desintegració del ser. Amb les seus contradiccions i la caiguda en el buit més pregon.  La Sed és el vers ensorrat d’una dona que retorna a l’espai de la seua pròpia llibertat i afronta la gravetat de temps inadequats\, viu cada sacsada i supera cada nova amenaça.  La Sed és la reconstrucció d’una història: la nostra.
URL:https://octubre.cat/activitat/presentacio-de-la-sed-de-paula-bonet/
LOCATION:Llibreria 3i4
CATEGORIES:Literatura
ATTACH;FMTTYPE=image/jpeg:https://octubre.cat/www/wp-content/uploads/2020/07/activitat2655.jpg
END:VEVENT
END:VCALENDAR