BEGIN:VCALENDAR
VERSION:2.0
PRODID:-//Octubre Centre de Cultura Contemporània - ECPv5.1.6//NONSGML v1.0//EN
CALSCALE:GREGORIAN
METHOD:PUBLISH
X-WR-CALNAME:Octubre Centre de Cultura Contemporània
X-ORIGINAL-URL:https://octubre.cat
X-WR-CALDESC:Events for Octubre Centre de Cultura Contemporània
BEGIN:VTIMEZONE
TZID:Europe/Andorra
BEGIN:DAYLIGHT
TZOFFSETFROM:+0100
TZOFFSETTO:+0200
TZNAME:CEST
DTSTART:20120325T010000
END:DAYLIGHT
BEGIN:STANDARD
TZOFFSETFROM:+0200
TZOFFSETTO:+0100
TZNAME:CET
DTSTART:20121028T010000
END:STANDARD
END:VTIMEZONE
BEGIN:VEVENT
DTSTART;TZID=Europe/Andorra:20120607T190000
DTEND;TZID=Europe/Andorra:20120607T190000
DTSTAMP:20260422T163828
CREATED:20200729T165754Z
LAST-MODIFIED:20200729T183853Z
UID:9378-1339095600-1339095600@octubre.cat
SUMMARY:Presentació de la revista 'Pèl Capell'
DESCRIPTION:Dijous 7 de juny a les 19.00h: presentació del núm. 15 de la revista “Pèl Capell”\, dedicat a Josep Palacios  \n  \n  \n\nPresentació del número 15 de la revista Pèl Capell\, dedicat a Josep Palacios.  Amb la particiapció de Pau Vadell i Lucia Pietrelli (membres del col·lectiu Pèl Capell)\, Jaume Pérez Muntaner\, Salvador Company\, Isabel Robles i Francesc Bononad. Presentació de l’acte a càrrec de Pau Sif.
URL:https://octubre.cat/activitat/presentacio-de-la-revista-pel-capell/
LOCATION:No definit
CATEGORIES:Literatura
ATTACH;FMTTYPE=image/jpeg:https://octubre.cat/www/wp-content/uploads/2020/07/activitat1621.jpg
END:VEVENT
END:VCALENDAR