BEGIN:VCALENDAR
VERSION:2.0
PRODID:-//Octubre Centre de Cultura Contemporània - ECPv5.1.6//NONSGML v1.0//EN
CALSCALE:GREGORIAN
METHOD:PUBLISH
X-WR-CALNAME:Octubre Centre de Cultura Contemporània
X-ORIGINAL-URL:https://octubre.cat
X-WR-CALDESC:Events for Octubre Centre de Cultura Contemporània
BEGIN:VTIMEZONE
TZID:Europe/Andorra
BEGIN:DAYLIGHT
TZOFFSETFROM:+0100
TZOFFSETTO:+0200
TZNAME:CEST
DTSTART:20160327T010000
END:DAYLIGHT
BEGIN:STANDARD
TZOFFSETFROM:+0200
TZOFFSETTO:+0100
TZNAME:CET
DTSTART:20161030T010000
END:STANDARD
END:VTIMEZONE
BEGIN:VEVENT
DTSTART;TZID=Europe/Andorra:20161102T190000
DTEND;TZID=Europe/Andorra:20161102T190000
DTSTAMP:20260421T045335
CREATED:20200729T172206Z
LAST-MODIFIED:20200729T185644Z
UID:10887-1478113200-1478113200@octubre.cat
SUMMARY:Presentació de la revista 'Nuestra Bandera'
DESCRIPTION:Dimecres 2 de novembre a les 19.00h. Amb Javier Parra\, Marga Sanz\, José Luis Centella i Patricia Santacruz.  \n  \n  \n\n Presentació del darrer número de la revista Nuestra Bandera\, amb Javier Parra (secretari general del PCPV)\, Marga Sanz (subdirectora de la revista) i José Luis Centella (secretari general del PCE). Presenta: Patricia Santacruz (secretària de cultural del PCPV).  Organitzada pel PCPV.
URL:https://octubre.cat/activitat/presentacio-de-la-revista-nuestra-bandera/
CATEGORIES:Literatura
ATTACH;FMTTYPE=image/jpeg:https://octubre.cat/www/wp-content/uploads/2020/07/activitat2702.jpg
END:VEVENT
END:VCALENDAR