BEGIN:VCALENDAR
VERSION:2.0
PRODID:-//Octubre Centre de Cultura Contemporània - ECPv5.1.6//NONSGML v1.0//EN
CALSCALE:GREGORIAN
METHOD:PUBLISH
X-WR-CALNAME:Octubre Centre de Cultura Contemporània
X-ORIGINAL-URL:https://octubre.cat
X-WR-CALDESC:Events for Octubre Centre de Cultura Contemporània
BEGIN:VTIMEZONE
TZID:Europe/Andorra
BEGIN:DAYLIGHT
TZOFFSETFROM:+0100
TZOFFSETTO:+0200
TZNAME:CEST
DTSTART:20260329T010000
END:DAYLIGHT
BEGIN:STANDARD
TZOFFSETFROM:+0200
TZOFFSETTO:+0100
TZNAME:CET
DTSTART:20261025T010000
END:STANDARD
END:VTIMEZONE
BEGIN:VEVENT
DTSTART;TZID=Europe/Andorra:20260205T183000
DTEND;TZID=Europe/Andorra:20260205T183000
DTSTAMP:20260421T182501
CREATED:20260119T163322Z
LAST-MODIFIED:20260131T061943Z
UID:24791-1770316200-1770316200@octubre.cat
SUMMARY:Presentació de la revista n°5 de la CAMDE-PV: Els Nostres Quaderns
DESCRIPTION:Amb la participació de: \nÀngel González: president CAMDE-PV\nCristina Escrivà: editora literària\nRafael Oriola: coordinador del dossier “Drets Humans i Educació”\nAndreu Romero i Alcaydei  i Aina Sebastián Arrando: IES Francesc Ferrer i Guàrdia de València\nAlejandro Forner Alfonso: IES Benigasló de La Vall d’Uixó \nLa revista presenta un nou dossier centrat en Drets Humans i Educació\, una aposta clara davant l’actual context polític i social del País Valencià. L’avenç de la dreta extrema i l’extrema dreta es tradueix en una ofensiva directa contra els drets humans: retallades a la memòria democràtica\, negació de la violència de gènere\, augment del masclisme\, racisme i xenofòbia contra la població migrant\, atacs als drets del col·lectiu LGTBIQ+ i proliferació de discursos d’odi. Aquest dossier naix com una eina de reflexió\, denúncia i defensa dels drets fonamentals des de l’àmbit educatiu. \nHo organitza CAMDE-PV amb la col·laboració d’Acció Cultural del País Valencià\, Associcació Cultural Institut Obrer\, Diputació de València Memòria Democràtica.
URL:https://octubre.cat/activitat/presentacio-de-la-revista-n5-de-la-camde-pv-els-nostres-quaderns/
LOCATION:Aula 1
CATEGORIES:Conferències i congressos
ATTACH;FMTTYPE=image/jpeg:https://octubre.cat/www/wp-content/uploads/2026/01/Invitacio-Quadern5-0_page-0001-1.jpg
END:VEVENT
END:VCALENDAR